FILENAME: O4811454.SES.48322.tif
QUADRANGLE_NAME: KALISPELL
QUADRANT: SE
WEST_LONGITUDE: -114 18 45.00000
EAST_LONGITUDE: -114 15 0.00000
NORTH_LATITUDE: 48 11 15.00000
SOUTH_LATITUDE: 48 7 30.00000
PRODUCTION_DATE: 1994 10 6
RASTER_ORDER: LEFT_RIGHT/TOP_BOTTOM
BAND_ORGANIZATION: SINGLE FILE
BAND_CONTENT: BLACK&WHITE
BAND_CONTENT: UNDEFINED
BAND_CONTENT: UNDEFINED
BITS_PER_PIXEL: 8
SAMPLES_AND_LINES: 5568 7721
HORIZONTAL_DATUM: NAD83
HORIZONTAL_COORDINATE_SYSTEM: UTM
COORDINATE_ZONE: 11
HORIZONTAL_UNITS: METERS
HORIZONTAL_RESOLUTION: 1.00000
SECONDARY_HORIZONTAL_DATUM: NAD27
XY_ORIGIN: 699367.00000 5341098.00000
SECONDARY_XY_ORIGIN: 699444.75600 5340886.24300
NATION: US
STATE: MT
NW_QUAD_CORNER_XY: 699739.84400 5340633.10700
NE_QUAD_CORNER_XY: 704384.56700 5340797.50000
SE_QUAD_CORNERY_XY: 704633.11600 5333851.56900
SW_QUAD_CORNER_XY: 699982.73700 5333687.13600
SECONDARY_NW_QUAD_XY: 699746.15400 5340414.29600
SECONDARY_NE_QUAD_XY: 704391.02400 5340578.69400
SECONDARY_SE_QUAD_XY: 704639.57300 5333632.77500
SECONDARY_SW_QUAD_XY: 699989.04700 5333468.33800
RMSE_XY: 0.70000
IMAGE_SOURCE: BLACK AND WHITE FILM
SOURCE_IMAGE_ID: NAPP 2640 225
SOURCE_IMAGE_DATE: 1990 7 1
SOURCE_DEM_DATE: 1994 10 6
AGENCY: WESTERN MAPPING CENTER (WMC)
PRODUCER: Science Applications International
PRODUCTION_SYSTEM: GIS/MAGIC
COMPRESSION: UNDEFINED
STANDARD_VERSION: 1996 12
METADATA_DATE: 1997 6 19
DATA_FILE_SIZE: 42996096
BYTE_COUNT: 5568
