FILENAME: O4811455.SWS.48199.tif
QUADRANGLE_NAME: CRESTON
QUADRANT: SW
WEST_LONGITUDE: -114 15 0.00000
EAST_LONGITUDE: -114 11 15.00000
NORTH_LATITUDE: 48 11 15.00000
SOUTH_LATITUDE: 48 7 30.00000
PRODUCTION_DATE: 1994 11 4
RASTER_ORDER: LEFT_RIGHT/TOP_BOTTOM
BAND_ORGANIZATION: SINGLE FILE
BAND_CONTENT: BLACK&WHITE
BAND_CONTENT: UNDEFINED
BAND_CONTENT: UNDEFINED
BITS_PER_PIXEL: 8
SAMPLES_AND_LINES: 5573 7724
HORIZONTAL_DATUM: NAD83
HORIZONTAL_COORDINATE_SYSTEM: UTM
COORDINATE_ZONE: 11
HORIZONTAL_UNITS: METERS
HORIZONTAL_RESOLUTION: 1.00000
SECONDARY_HORIZONTAL_DATUM: NAD27
XY_ORIGIN: 704012.00000 5341266.00000
SECONDARY_XY_ORIGIN: 704089.71600 5341054.30000
NATION: US
STATE: MT
NW_QUAD_CORNER_XY: 704384.56700 5340797.50000
NE_QUAD_CORNER_XY: 709029.26300 5340965.67700
SE_QUAD_CORNERY_XY: 709283.46900 5334019.78600
SW_QUAD_CORNER_XY: 704633.11600 5333851.56900
SECONDARY_NW_QUAD_XY: 704391.02400 5340578.69400
SECONDARY_NE_QUAD_XY: 709035.86800 5340746.87600
SECONDARY_SE_QUAD_XY: 709290.07300 5333800.99800
SECONDARY_SW_QUAD_XY: 704639.57300 5333632.77500
RMSE_XY: 1.00000
IMAGE_SOURCE: BLACK AND WHITE FILM
SOURCE_IMAGE_ID: NAPP 2641 030
SOURCE_IMAGE_DATE: 1990 7 1
SOURCE_DEM_DATE: 1994 11 4
AGENCY: WESTERN MAPPING CENTER (WMC)
PRODUCER: Science Applications International
PRODUCTION_SYSTEM: GIS/MAGIC
COMPRESSION: UNDEFINED
STANDARD_VERSION: 1996 12
METADATA_DATE: 1997 6 19
DATA_FILE_SIZE: 43051425
BYTE_COUNT: 5573
