FILENAME: O4811455.SES.48198.tif
QUADRANGLE_NAME: CRESTON
QUADRANT: SE
WEST_LONGITUDE: -114 11 15.00000
EAST_LONGITUDE: -114 7 30.00000
NORTH_LATITUDE: 48 11 15.00000
SOUTH_LATITUDE: 48 7 30.00000
PRODUCTION_DATE: 1994 11 4
RASTER_ORDER: LEFT_RIGHT/TOP_BOTTOM
BAND_ORGANIZATION: SINGLE FILE
BAND_CONTENT: BLACK&WHITE
BAND_CONTENT: UNDEFINED
BAND_CONTENT: UNDEFINED
BITS_PER_PIXEL: 8
SAMPLES_AND_LINES: 5578 7728
HORIZONTAL_DATUM: NAD83
HORIZONTAL_COORDINATE_SYSTEM: UTM
COORDINATE_ZONE: 11
HORIZONTAL_UNITS: METERS
HORIZONTAL_RESOLUTION: 1.00000
SECONDARY_HORIZONTAL_DATUM: NAD27
XY_ORIGIN: 708657.00000 5341438.00000
SECONDARY_XY_ORIGIN: 708734.57800 5341226.33500
NATION: US
STATE: MT
NW_QUAD_CORNER_XY: 709029.26300 5340965.67700
NE_QUAD_CORNER_XY: 713673.93200 5341137.63800
SE_QUAD_CORNERY_XY: 713933.79400 5334191.78900
SW_QUAD_CORNER_XY: 709283.46900 5334019.78600
SECONDARY_NW_QUAD_XY: 709035.86800 5340746.87600
SECONDARY_NE_QUAD_XY: 713680.68300 5340918.84300
SECONDARY_SE_QUAD_XY: 713940.54500 5333973.00600
SECONDARY_SW_QUAD_XY: 709290.07300 5333800.99800
RMSE_XY: 1.20000
IMAGE_SOURCE: BLACK AND WHITE FILM
SOURCE_IMAGE_ID: NAPP 2641 045
SOURCE_IMAGE_DATE: 1990 7 1
SOURCE_DEM_DATE: 1994 11 4
AGENCY: WESTERN MAPPING CENTER (WMC)
PRODUCER: Science Applications International
PRODUCTION_SYSTEM: GIS/MAGIC
COMPRESSION: UNDEFINED
STANDARD_VERSION: 1996 12
METADATA_DATE: 1997 6 20
DATA_FILE_SIZE: 43112362
BYTE_COUNT: 5578
