FILENAME: O4811455.NES.48196.tif
QUADRANGLE_NAME: CRESTON
QUADRANT: NE
WEST_LONGITUDE: -114 11 15.00000
EAST_LONGITUDE: -114 7 30.00000
NORTH_LATITUDE: 48 15 0.00000
SOUTH_LATITUDE: 48 11 15.00000
PRODUCTION_DATE: 1994 11 4
RASTER_ORDER: LEFT_RIGHT/TOP_BOTTOM
BAND_ORGANIZATION: SINGLE FILE
BAND_CONTENT: BLACK&WHITE
BAND_CONTENT: UNDEFINED
BAND_CONTENT: UNDEFINED
BITS_PER_PIXEL: 8
SAMPLES_AND_LINES: 5573 7728
HORIZONTAL_DATUM: NAD83
HORIZONTAL_COORDINATE_SYSTEM: UTM
COORDINATE_ZONE: 11
HORIZONTAL_UNITS: METERS
HORIZONTAL_RESOLUTION: 1.00000
SECONDARY_HORIZONTAL_DATUM: NAD27
XY_ORIGIN: 708402.00000 5348384.00000
SECONDARY_XY_ORIGIN: 708479.61700 5348171.97400
NATION: US
STATE: MT
NW_QUAD_CORNER_XY: 708774.80700 5347911.62500
NE_QUAD_CORNER_XY: 713413.81300 5348083.54400
SE_QUAD_CORNERY_XY: 713673.93200 5341137.63800
SW_QUAD_CORNER_XY: 709029.26300 5340965.67700
SECONDARY_NW_QUAD_XY: 708781.41200 5347692.81300
SECONDARY_NE_QUAD_XY: 713420.56500 5347864.73800
SECONDARY_SE_QUAD_XY: 713680.68300 5340918.84300
SECONDARY_SW_QUAD_XY: 709035.86800 5340746.87600
RMSE_XY: 1.10000
IMAGE_SOURCE: BLACK AND WHITE FILM
SOURCE_IMAGE_ID: NAPP 2641 043
SOURCE_IMAGE_DATE: 1990 7 1
SOURCE_DEM_DATE: 1994 11 4
AGENCY: WESTERN MAPPING CENTER (WMC)
PRODUCER: Science Applications International
PRODUCTION_SYSTEM: GIS/MAGIC
COMPRESSION: UNDEFINED
STANDARD_VERSION: 1996 12
METADATA_DATE: 1997 6 19
DATA_FILE_SIZE: 43073717
BYTE_COUNT: 5573
