FILENAME: O4811457.SES.49170.tif
QUADRANGLE_NAME: MEADOW PEAK
QUADRANT: SE
WEST_LONGITUDE: -114 56 15.00000
EAST_LONGITUDE: -114 52 30.00000
NORTH_LATITUDE: 48 3 45.00000
SOUTH_LATITUDE: 48 0 0.00000
PRODUCTION_DATE: 1994 11 4
RASTER_ORDER: LEFT_RIGHT/TOP_BOTTOM
BAND_ORGANIZATION: SINGLE FILE
BAND_CONTENT: BLACK&WHITE
BAND_CONTENT: UNDEFINED
BAND_CONTENT: UNDEFINED
BITS_PER_PIXEL: 8
SAMPLES_AND_LINES: 5523 7684
HORIZONTAL_DATUM: NAD83
HORIZONTAL_COORDINATE_SYSTEM: UTM
COORDINATE_ZONE: 11
HORIZONTAL_UNITS: METERS
HORIZONTAL_RESOLUTION: 1.00000
SECONDARY_HORIZONTAL_DATUM: NAD27
XY_ORIGIN: 653290.00000 5325732.00000
SECONDARY_XY_ORIGIN: 653367.42000 5325520.62300
NATION: US
STATE: MT
NW_QUAD_CORNER_XY: 653663.79900 5325304.67000
NE_QUAD_CORNER_XY: 658320.05600 5325431.29900
SE_QUAD_CORNERY_XY: 658511.68700 5318485.14600
SW_QUAD_CORNER_XY: 653849.79100 5318358.48800
SECONDARY_NW_QUAD_XY: 653668.64200 5325085.84000
SECONDARY_NE_QUAD_XY: 658325.04500 5325212.47300
SECONDARY_SE_QUAD_XY: 658516.67600 5318266.33400
SECONDARY_SW_QUAD_XY: 653854.63300 5318139.67200
RMSE_XY: 4.10000
IMAGE_SOURCE: BLACK AND WHITE FILM
SOURCE_IMAGE_ID: NAPP 2644 111
SOURCE_IMAGE_DATE: 1990 8 6
SOURCE_DEM_DATE: 1994 11 4
AGENCY: WESTERN MAPPING CENTER (WMC)
PRODUCER: Science Applications International
PRODUCTION_SYSTEM: GIS/MAGIC
COMPRESSION: UNDEFINED
STANDARD_VERSION: 1996 12
METADATA_DATE: 1997 7 16
DATA_FILE_SIZE: 42444255
BYTE_COUNT: 5523
