FILENAME: O4811457.NWS.49169.tif
QUADRANGLE_NAME: MEADOW PEAK
QUADRANT: NW
WEST_LONGITUDE: -115 0 0.00000
EAST_LONGITUDE: -114 56 15.00000
NORTH_LATITUDE: 48 7 30.00000
SOUTH_LATITUDE: 48 3 45.00000
PRODUCTION_DATE: 1994 11 4
RASTER_ORDER: LEFT_RIGHT/TOP_BOTTOM
BAND_ORGANIZATION: SINGLE FILE
BAND_CONTENT: BLACK&WHITE
BAND_CONTENT: UNDEFINED
BAND_CONTENT: UNDEFINED
BITS_PER_PIXEL: 8
SAMPLES_AND_LINES: 5512 7679
HORIZONTAL_DATUM: NAD83
HORIZONTAL_COORDINATE_SYSTEM: UTM
COORDINATE_ZONE: 11
HORIZONTAL_UNITS: METERS
HORIZONTAL_RESOLUTION: 1.00000
SECONDARY_HORIZONTAL_DATUM: NAD27
XY_ORIGIN: 648453.00000 5332551.00000
SECONDARY_XY_ORIGIN: 648530.51800 5332339.27200
NATION: US
STATE: MT
NW_QUAD_CORNER_XY: 648826.99400 5332128.10200
NE_QUAD_CORNER_XY: 653477.62400 5332250.91900
SE_QUAD_CORNERY_XY: 653663.79900 5325304.67000
SW_QUAD_CORNER_XY: 649007.52400 5325181.82400
SECONDARY_NW_QUAD_XY: 648831.69000 5331909.25400
SECONDARY_NE_QUAD_XY: 653482.46700 5332032.07500
SECONDARY_SE_QUAD_XY: 653668.64200 5325085.84000
SECONDARY_SW_QUAD_XY: 649012.21900 5324962.99000
RMSE_XY: 5.20000
IMAGE_SOURCE: BLACK AND WHITE FILM
SOURCE_IMAGE_ID: NAPP 2642 036
SOURCE_IMAGE_DATE: 1990 7 17
SOURCE_DEM_DATE: 1994 11 4
AGENCY: WESTERN MAPPING CENTER (WMC)
PRODUCER: Science Applications International
PRODUCTION_SYSTEM: GIS/MAGIC
COMPRESSION: UNDEFINED
STANDARD_VERSION: 1996 12
METADATA_DATE: 1997 7 16
DATA_FILE_SIZE: 42332160
BYTE_COUNT: 5512
