FILENAME: O4811458.SES.49033.tif
QUADRANGLE_NAME: MCGREGOR PEAK
QUADRANT: SE
WEST_LONGITUDE: -114 48 45.00000
EAST_LONGITUDE: -114 45 0.00000
NORTH_LATITUDE: 48 3 45.00000
SOUTH_LATITUDE: 48 0 0.00000
PRODUCTION_DATE: 1994 10 13
RASTER_ORDER: LEFT_RIGHT/TOP_BOTTOM
BAND_ORGANIZATION: SINGLE FILE
BAND_CONTENT: BLACK&WHITE
BAND_CONTENT: UNDEFINED
BAND_CONTENT: UNDEFINED
BITS_PER_PIXEL: 8
SAMPLES_AND_LINES: 5534 7691
HORIZONTAL_DATUM: NAD83
HORIZONTAL_COORDINATE_SYSTEM: UTM
COORDINATE_ZONE: 11
HORIZONTAL_UNITS: METERS
HORIZONTAL_RESOLUTION: 1.00000
SECONDARY_HORIZONTAL_DATUM: NAD27
XY_ORIGIN: 662603.00000 5325996.00000
SECONDARY_XY_ORIGIN: 662680.18300 5325784.65200
NATION: US
STATE: MT
NW_QUAD_CORNER_XY: 662976.29200 5325561.71100
NE_QUAD_CORNER_XY: 667632.50800 5325695.90600
SE_QUAD_CORNERY_XY: 667835.42100 5318749.81300
SW_QUAD_CORNER_XY: 663173.56400 5318615.58800
SECONDARY_NW_QUAD_XY: 662981.42800 5325342.88900
SECONDARY_NE_QUAD_XY: 667637.79000 5325477.08800
SECONDARY_SE_QUAD_XY: 667840.70300 5318531.01000
SECONDARY_SW_QUAD_XY: 663178.70000 5318396.78000
RMSE_XY: 4.10000
IMAGE_SOURCE: BLACK AND WHITE FILM
SOURCE_IMAGE_ID: NAPP 2642 073
SOURCE_IMAGE_DATE: 1990 7 17
SOURCE_DEM_DATE: 1994 10 13
AGENCY: WESTERN MAPPING CENTER (WMC)
PRODUCER: Science Applications International
PRODUCTION_SYSTEM: GIS/MAGIC
COMPRESSION: UNDEFINED
STANDARD_VERSION: 1996 12
METADATA_DATE: 1997 7 15
DATA_FILE_SIZE: 42567528
BYTE_COUNT: 5534
