FILENAME: O4811459.SWS.48851.tif
QUADRANGLE_NAME: MARION
QUADRANT: SW
WEST_LONGITUDE: -114 45 0.00000
EAST_LONGITUDE: -114 41 15.00000
NORTH_LATITUDE: 48 3 45.00000
SOUTH_LATITUDE: 48 0 0.00000
PRODUCTION_DATE: 1994 10 13
RASTER_ORDER: LEFT_RIGHT/TOP_BOTTOM
BAND_ORGANIZATION: SINGLE FILE
BAND_CONTENT: BLACK&WHITE
BAND_CONTENT: UNDEFINED
BAND_CONTENT: UNDEFINED
BITS_PER_PIXEL: 8
SAMPLES_AND_LINES: 5540 7695
HORIZONTAL_DATUM: NAD83
HORIZONTAL_COORDINATE_SYSTEM: UTM
COORDINATE_ZONE: 11
HORIZONTAL_UNITS: METERS
HORIZONTAL_RESOLUTION: 1.00000
SECONDARY_HORIZONTAL_DATUM: NAD27
XY_ORIGIN: 667259.00000 5326134.00000
SECONDARY_XY_ORIGIN: 667336.03300 5325922.67100
NATION: US
STATE: MT
NW_QUAD_CORNER_XY: 667632.50800 5325695.90600
NE_QUAD_CORNER_XY: 672288.70200 5325833.88500
SE_QUAD_CORNERY_XY: 672497.25700 5318887.82400
SW_QUAD_CORNER_XY: 667835.42100 5318749.81300
SECONDARY_NW_QUAD_XY: 667637.79000 5325477.08800
SECONDARY_NE_QUAD_XY: 672294.13100 5325615.07100
SECONDARY_SE_QUAD_XY: 672502.68600 5318669.02500
SECONDARY_SW_QUAD_XY: 667840.70300 5318531.01000
RMSE_XY: 5.20000
IMAGE_SOURCE: BLACK AND WHITE FILM
SOURCE_IMAGE_ID: NAPP 2648 021
SOURCE_IMAGE_DATE: 1990 8 16
SOURCE_DEM_DATE: 1994 10 13
AGENCY: WESTERN MAPPING CENTER (WMC)
PRODUCER: Science Applications International
PRODUCTION_SYSTEM: GIS/MAGIC
COMPRESSION: UNDEFINED
STANDARD_VERSION: 1996 12
METADATA_DATE: 1997 7 15
DATA_FILE_SIZE: 42635840
BYTE_COUNT: 5540
