FILENAME: O4811459.SES.48850.tif
QUADRANGLE_NAME: MARION
QUADRANT: SE
WEST_LONGITUDE: -114 41 15.00000
EAST_LONGITUDE: -114 37 30.00000
NORTH_LATITUDE: 48 3 45.00000
SOUTH_LATITUDE: 48 0 0.00000
PRODUCTION_DATE: 1994 10 13
RASTER_ORDER: LEFT_RIGHT/TOP_BOTTOM
BAND_ORGANIZATION: SINGLE FILE
BAND_CONTENT: BLACK&WHITE
BAND_CONTENT: UNDEFINED
BAND_CONTENT: UNDEFINED
BITS_PER_PIXEL: 8
SAMPLES_AND_LINES: 5546 7699
HORIZONTAL_DATUM: NAD83
HORIZONTAL_COORDINATE_SYSTEM: UTM
COORDINATE_ZONE: 11
HORIZONTAL_UNITS: METERS
HORIZONTAL_RESOLUTION: 1.00000
SECONDARY_HORIZONTAL_DATUM: NAD27
XY_ORIGIN: 671915.00000 5326276.00000
SECONDARY_XY_ORIGIN: 671992.19400 5326064.71100
NATION: US
STATE: MT
NW_QUAD_CORNER_XY: 672288.70200 5325833.88500
NE_QUAD_CORNER_XY: 676944.87500 5325975.64700
SE_QUAD_CORNERY_XY: 677159.07200 5319029.61900
SW_QUAD_CORNER_XY: 672497.25700 5318887.82400
SECONDARY_NW_QUAD_XY: 672294.13100 5325615.07100
SECONDARY_NE_QUAD_XY: 676950.45100 5325756.83800
SECONDARY_SE_QUAD_XY: 677164.64800 5318810.82400
SECONDARY_SW_QUAD_XY: 672502.68600 5318669.02500
RMSE_XY: 6.70000
IMAGE_SOURCE: BLACK AND WHITE FILM
SOURCE_IMAGE_ID: NAPP 2640 004
SOURCE_IMAGE_DATE: 1990 7 1
SOURCE_DEM_DATE: 1994 10 13
AGENCY: WESTERN MAPPING CENTER (WMC)
PRODUCER: Science Applications International
PRODUCTION_SYSTEM: GIS/MAGIC
COMPRESSION: UNDEFINED
STANDARD_VERSION: 1996 12
METADATA_DATE: 1997 7 15
DATA_FILE_SIZE: 42704200
BYTE_COUNT: 5546
