FILENAME: O4811459.NES.48848.tif
QUADRANGLE_NAME: MARION
QUADRANT: NE
WEST_LONGITUDE: -114 41 15.00000
EAST_LONGITUDE: -114 37 30.00000
NORTH_LATITUDE: 48 7 30.00000
SOUTH_LATITUDE: 48 3 45.00000
PRODUCTION_DATE: 1994 10 13
RASTER_ORDER: LEFT_RIGHT/TOP_BOTTOM
BAND_ORGANIZATION: SINGLE FILE
BAND_CONTENT: BLACK&WHITE
BAND_CONTENT: UNDEFINED
BAND_CONTENT: UNDEFINED
BITS_PER_PIXEL: 8
SAMPLES_AND_LINES: 5539 7698
HORIZONTAL_DATUM: NAD83
HORIZONTAL_COORDINATE_SYSTEM: UTM
COORDINATE_ZONE: 11
HORIZONTAL_UNITS: METERS
HORIZONTAL_RESOLUTION: 1.00000
SECONDARY_HORIZONTAL_DATUM: NAD27
XY_ORIGIN: 671707.00000 5333222.00000
SECONDARY_XY_ORIGIN: 671784.33000 5333010.32100
NATION: US
STATE: MT
NW_QUAD_CORNER_XY: 672079.94000 5332780.00900
NE_QUAD_CORNER_XY: 676730.46600 5332921.73800
SE_QUAD_CORNERY_XY: 676944.87500 5325975.64700
SW_QUAD_CORNER_XY: 672288.70200 5325833.88500
SECONDARY_NW_QUAD_XY: 672085.37000 5332561.18200
SECONDARY_NE_QUAD_XY: 676736.04200 5332702.91600
SECONDARY_SE_QUAD_XY: 676950.45100 5325756.83800
SECONDARY_SW_QUAD_XY: 672294.13100 5325615.07100
RMSE_XY: 2.40000
IMAGE_SOURCE: BLACK AND WHITE FILM
SOURCE_IMAGE_ID: NAPP 2640 002
SOURCE_IMAGE_DATE: 1990 7 1
SOURCE_DEM_DATE: 1994 10 13
AGENCY: WESTERN MAPPING CENTER (WMC)
PRODUCER: Science Applications International
PRODUCTION_SYSTEM: GIS/MAGIC
COMPRESSION: UNDEFINED
STANDARD_VERSION: 1996 12
METADATA_DATE: 1997 7 15
DATA_FILE_SIZE: 42644761
BYTE_COUNT: 5539
