FILENAME: O4811460.SES.48646.tif
QUADRANGLE_NAME: HASKILL MOUNTAIN
QUADRANT: SE
WEST_LONGITUDE: -114 33 45.00000
EAST_LONGITUDE: -114 30 0.00000
NORTH_LATITUDE: 48 3 45.00000
SOUTH_LATITUDE: 48 0 0.00000
PRODUCTION_DATE: 1994 10 6
RASTER_ORDER: LEFT_RIGHT/TOP_BOTTOM
BAND_ORGANIZATION: SINGLE FILE
BAND_CONTENT: BLACK&WHITE
BAND_CONTENT: UNDEFINED
BAND_CONTENT: UNDEFINED
BITS_PER_PIXEL: 8
SAMPLES_AND_LINES: 5556 7706
HORIZONTAL_DATUM: NAD83
HORIZONTAL_COORDINATE_SYSTEM: UTM
COORDINATE_ZONE: 11
HORIZONTAL_UNITS: METERS
HORIZONTAL_RESOLUTION: 1.00000
SECONDARY_HORIZONTAL_DATUM: NAD27
XY_ORIGIN: 681228.00000 5326571.00000
SECONDARY_XY_ORIGIN: 681305.51600 5326359.79100
NATION: US
STATE: MT
NW_QUAD_CORNER_XY: 681601.02500 5326121.19300
NE_QUAD_CORNER_XY: 686257.15300 5326270.52400
SE_QUAD_CORNERY_XY: 686482.63500 5319324.56300
SW_QUAD_CORNER_XY: 681820.86500 5319175.19800
SECONDARY_NW_QUAD_XY: 681606.74800 5325902.38900
SECONDARY_NE_QUAD_XY: 686263.02200 5326051.72400
SECONDARY_SE_QUAD_XY: 686488.50400 5319105.77800
SECONDARY_SW_QUAD_XY: 681826.58700 5318956.40800
RMSE_XY: 2.60000
IMAGE_SOURCE: BLACK AND WHITE FILM
SOURCE_IMAGE_ID: NAPP 2640 084
SOURCE_IMAGE_DATE: 1990 7 1
SOURCE_DEM_DATE: 1994 10 6
AGENCY: WESTERN MAPPING CENTER (WMC)
PRODUCER: Science Applications International
PRODUCTION_SYSTEM: GIS/MAGIC
COMPRESSION: UNDEFINED
STANDARD_VERSION: 1996 12
METADATA_DATE: 1997 7 16
DATA_FILE_SIZE: 42820092
BYTE_COUNT: 5556
