FILENAME: O4811461.SES.48466.tif
QUADRANGLE_NAME: KILA
QUADRANT: SE
WEST_LONGITUDE: -114 26 15.00000
EAST_LONGITUDE: -114 22 30.00000
NORTH_LATITUDE: 48 3 45.00000
SOUTH_LATITUDE: 48 0 0.00000
PRODUCTION_DATE: 1994 10 6
RASTER_ORDER: LEFT_RIGHT/TOP_BOTTOM
BAND_ORGANIZATION: SINGLE FILE
BAND_CONTENT: BLACK&WHITE
BAND_CONTENT: UNDEFINED
BAND_CONTENT: UNDEFINED
BITS_PER_PIXEL: 8
SAMPLES_AND_LINES: 5568 7714
HORIZONTAL_DATUM: NAD83
HORIZONTAL_COORDINATE_SYSTEM: UTM
COORDINATE_ZONE: 11
HORIZONTAL_UNITS: METERS
HORIZONTAL_RESOLUTION: 1.00000
SECONDARY_HORIZONTAL_DATUM: NAD27
XY_ORIGIN: 690540.00000 5326881.00000
SECONDARY_XY_ORIGIN: 690617.67100 5326669.88100
NATION: US
STATE: MT
NW_QUAD_CORNER_XY: 690913.25600 5326423.63900
NE_QUAD_CORNER_XY: 695569.33600 5326580.53900
SE_QUAD_CORNERY_XY: 695806.10600 5319634.65000
SW_QUAD_CORNER_XY: 691144.38200 5319477.71400
SECONDARY_NW_QUAD_XY: 690919.27300 5326204.84400
SECONDARY_NE_QUAD_XY: 695575.49900 5326361.74900
SECONDARY_SE_QUAD_XY: 695812.26900 5319415.87500
SECONDARY_SW_QUAD_XY: 691150.39800 5319258.93300
RMSE_XY: 4.30000
IMAGE_SOURCE: BLACK AND WHITE FILM
SOURCE_IMAGE_ID: NAPP 2640 158
SOURCE_IMAGE_DATE: 1990 7 1
SOURCE_DEM_DATE: 1994 10 6
AGENCY: WESTERN MAPPING CENTER (WMC)
PRODUCER: Science Applications International
PRODUCTION_SYSTEM: GIS/MAGIC
COMPRESSION: UNDEFINED
STANDARD_VERSION: 1996 12
METADATA_DATE: 1997 6 19
DATA_FILE_SIZE: 42957120
BYTE_COUNT: 5568
