FILENAME: O4811461.NES.48464.tif
QUADRANGLE_NAME: KILA
QUADRANT: NE
WEST_LONGITUDE: -114 26 15.00000
EAST_LONGITUDE: -114 22 30.00000
NORTH_LATITUDE: 48 7 30.00000
SOUTH_LATITUDE: 48 3 45.00000
PRODUCTION_DATE: 1994 10 6
RASTER_ORDER: LEFT_RIGHT/TOP_BOTTOM
BAND_ORGANIZATION: SINGLE FILE
BAND_CONTENT: BLACK&WHITE
BAND_CONTENT: UNDEFINED
BAND_CONTENT: UNDEFINED
BITS_PER_PIXEL: 8
SAMPLES_AND_LINES: 5562 7714
HORIZONTAL_DATUM: NAD83
HORIZONTAL_COORDINATE_SYSTEM: UTM
COORDINATE_ZONE: 11
HORIZONTAL_UNITS: METERS
HORIZONTAL_RESOLUTION: 1.00000
SECONDARY_HORIZONTAL_DATUM: NAD27
XY_ORIGIN: 690309.00000 5333827.00000
SECONDARY_XY_ORIGIN: 690386.76700 5333615.50700
NATION: US
STATE: MT
NW_QUAD_CORNER_XY: 690681.90200 5333369.62500
NE_QUAD_CORNER_XY: 695332.33200 5333526.48900
SE_QUAD_CORNERY_XY: 695569.33600 5326580.53900
SW_QUAD_CORNER_XY: 690913.25600 5326423.63900
SECONDARY_NW_QUAD_XY: 690687.91900 5333150.81700
SECONDARY_NE_QUAD_XY: 695338.49600 5333307.68500
SECONDARY_SE_QUAD_XY: 695575.49900 5326361.74900
SECONDARY_SW_QUAD_XY: 690919.27300 5326204.84400
RMSE_XY: 4.90000
IMAGE_SOURCE: BLACK AND WHITE FILM
SOURCE_IMAGE_ID: NAPP 2640 156
SOURCE_IMAGE_DATE: 1990 7 1
SOURCE_DEM_DATE: 1994 10 6
AGENCY: WESTERN MAPPING CENTER (WMC)
PRODUCER: Science Applications International
PRODUCTION_SYSTEM: GIS/MAGIC
COMPRESSION: UNDEFINED
STANDARD_VERSION: 1996 12
METADATA_DATE: 1997 6 19
DATA_FILE_SIZE: 42910830
BYTE_COUNT: 5562
