FILENAME: O4811462.NWS.48325.tif
QUADRANGLE_NAME: LION MOUNTAIN
QUADRANT: NW
WEST_LONGITUDE: -114 22 30.00000
EAST_LONGITUDE: -114 18 45.00000
NORTH_LATITUDE: 48 7 30.00000
SOUTH_LATITUDE: 48 3 45.00000
PRODUCTION_DATE: 1994 10 6
RASTER_ORDER: LEFT_RIGHT/TOP_BOTTOM
BAND_ORGANIZATION: SINGLE FILE
BAND_CONTENT: BLACK&WHITE
BAND_CONTENT: UNDEFINED
BAND_CONTENT: UNDEFINED
BITS_PER_PIXEL: 8
SAMPLES_AND_LINES: 5568 7718
HORIZONTAL_DATUM: NAD83
HORIZONTAL_COORDINATE_SYSTEM: UTM
COORDINATE_ZONE: 11
HORIZONTAL_UNITS: METERS
HORIZONTAL_RESOLUTION: 1.00000
SECONDARY_HORIZONTAL_DATUM: NAD27
XY_ORIGIN: 694959.00000 5333988.00000
SECONDARY_XY_ORIGIN: 695036.73400 5333776.56000
NATION: US
STATE: MT
NW_QUAD_CORNER_XY: 695332.33200 5333526.48900
NE_QUAD_CORNER_XY: 699982.73700 5333687.13600
SE_QUAD_CORNERY_XY: 700225.39100 5326741.22500
SW_QUAD_CORNER_XY: 695569.33600 5326580.53900
SECONDARY_NW_QUAD_XY: 695338.49600 5333307.68500
SECONDARY_NE_QUAD_XY: 699989.04700 5333468.33800
SECONDARY_SE_QUAD_XY: 700231.70100 5326522.44000
SECONDARY_SW_QUAD_XY: 695575.49900 5326361.74900
RMSE_XY: 2.80000
IMAGE_SOURCE: BLACK AND WHITE FILM
SOURCE_IMAGE_ID: NAPP 2640 243
SOURCE_IMAGE_DATE: 1990 7 1
SOURCE_DEM_DATE: 1994 10 6
AGENCY: WESTERN MAPPING CENTER (WMC)
PRODUCER: Science Applications International
PRODUCTION_SYSTEM: GIS/MAGIC
COMPRESSION: UNDEFINED
STANDARD_VERSION: 1996 12
METADATA_DATE: 1997 6 19
DATA_FILE_SIZE: 42979392
BYTE_COUNT: 5568
