FILENAME: O4811464.SES.48077.tif
QUADRANGLE_NAME: BIGFORK
QUADRANT: SE
WEST_LONGITUDE: -114 3 45.00000
EAST_LONGITUDE: -114 0 0.00000
NORTH_LATITUDE: 48 3 45.00000
SOUTH_LATITUDE: 48 0 0.00000
PRODUCTION_DATE: 1994 11 4
RASTER_ORDER: LEFT_RIGHT/TOP_BOTTOM
BAND_ORGANIZATION: SINGLE FILE
BAND_CONTENT: BLACK&WHITE
BAND_CONTENT: UNDEFINED
BAND_CONTENT: UNDEFINED
BITS_PER_PIXEL: 8
SAMPLES_AND_LINES: 5599 7737
HORIZONTAL_DATUM: NAD83
HORIZONTAL_COORDINATE_SYSTEM: UTM
COORDINATE_ZONE: 11
HORIZONTAL_UNITS: METERS
HORIZONTAL_RESOLUTION: 1.00000
SECONDARY_HORIZONTAL_DATUM: NAD27
XY_ORIGIN: 718478.00000 5327902.00000
SECONDARY_XY_ORIGIN: 718555.19300 5327691.09800
NATION: US
STATE: MT
NW_QUAD_CORNER_XY: 718849.35000 5327421.82600
NE_QUAD_CORNER_XY: 723505.27200 5327601.44300
SE_QUAD_CORNERY_XY: 723775.91500 5320655.78900
SW_QUAD_CORNER_XY: 719114.34700 5320476.13100
SECONDARY_NW_QUAD_XY: 718856.24700 5327203.06200
SECONDARY_NE_QUAD_XY: 723512.31600 5327382.68500
SECONDARY_SE_QUAD_XY: 723782.95900 5320437.04500
SECONDARY_SW_QUAD_XY: 719121.24300 5320257.38200
RMSE_XY: 2.20000
IMAGE_SOURCE: BLACK AND WHITE FILM
SOURCE_IMAGE_ID: NAPP 2641 111
SOURCE_IMAGE_DATE: 1990 7 1
SOURCE_DEM_DATE: 1994 11 4
AGENCY: WESTERN MAPPING CENTER (WMC)
PRODUCER: Science Applications International
PRODUCTION_SYSTEM: GIS/MAGIC
COMPRESSION: UNDEFINED
STANDARD_VERSION: 1996 12
METADATA_DATE: 1997 6 19
DATA_FILE_SIZE: 43325062
BYTE_COUNT: 5599
