FILENAME: O4811301.NWS.47918.tif
QUADRANGLE_NAME: PORCUPINE RIDGE
QUADRANT: NW
WEST_LONGITUDE: -114 0 0.00000
EAST_LONGITUDE: -113 56 15.00000
NORTH_LATITUDE: 49 0 0.00000
SOUTH_LATITUDE: 48 56 15.00000
PRODUCTION_DATE: 1995 5 1
RASTER_ORDER: LEFT_RIGHT/TOP_BOTTOM
BAND_ORGANIZATION: SINGLE FILE
BAND_CONTENT: BLACK&WHITE
BAND_CONTENT: UNDEFINED
BAND_CONTENT: UNDEFINED
BITS_PER_PIXEL: 8
SAMPLES_AND_LINES: 5518 7729
HORIZONTAL_DATUM: NAD83
HORIZONTAL_COORDINATE_SYSTEM: UTM
COORDINATE_ZONE: 12
HORIZONTAL_UNITS: METERS
HORIZONTAL_RESOLUTION: 1.00000
SECONDARY_HORIZONTAL_DATUM: NAD27
XY_ORIGIN: 279940.00000 5432094.00000
SECONDARY_XY_ORIGIN: 280003.31000 5431874.77000
NATION: US
STATE: MT
NW_QUAD_CORNER_XY: 280586.30000 5431792.86000
NE_QUAD_CORNER_XY: 285156.86000 5431613.97000
SE_QUAD_CORNERY_XY: 284887.96000 5424667.44000
SW_QUAD_CORNER_XY: 280311.68000 5424846.38000
SECONDARY_NW_QUAD_XY: 280579.25000 5431573.99000
SECONDARY_NE_QUAD_XY: 285149.95000 5431395.10000
SECONDARY_SE_QUAD_XY: 284881.06000 5424448.56000
SECONDARY_SW_QUAD_XY: 280304.63000 5424627.51000
RMSE_XY: 4.70000
IMAGE_SOURCE: BLACK AND WHITE FILM
SOURCE_IMAGE_ID: NAPP 5615 464
SOURCE_IMAGE_DATE: 1991 8 26
SOURCE_IMAGE_ID: NAPP 5615 363
SOURCE_IMAGE_DATE: 1991 8 26
SOURCE_IMAGE_ID: NAPP 5615 565
SOURCE_IMAGE_DATE: 1991 8 26
SOURCE_DEM_DATE: 1995 5 1
AGENCY: WESTERN MAPPING CENTER (WMC)
PRODUCER: Science Applications International
PRODUCTION_SYSTEM: GIS/MAGIC
COMPRESSION: UNDEFINED
STANDARD_VERSION: 1996 12
METADATA_DATE: 1997 5 20
DATA_FILE_SIZE: 42654140
BYTE_COUNT: 5518
