FILENAME: O4811302.SES.47780.tif
QUADRANGLE_NAME: MOUNT CLEVELAND
QUADRANT: SE
WEST_LONGITUDE: -113 48 45.00000
EAST_LONGITUDE: -113 45 0.00000
NORTH_LATITUDE: 48 56 15.00000
SOUTH_LATITUDE: 48 52 30.00000
PRODUCTION_DATE: 1995 5 4
RASTER_ORDER: LEFT_RIGHT/TOP_BOTTOM
BAND_ORGANIZATION: SINGLE FILE
BAND_CONTENT: BLACK&WHITE
BAND_CONTENT: UNDEFINED
BAND_CONTENT: UNDEFINED
BITS_PER_PIXEL: 8
SAMPLES_AND_LINES: 5507 7718
HORIZONTAL_DATUM: NAD83
HORIZONTAL_COORDINATE_SYSTEM: UTM
COORDINATE_ZONE: 12
HORIZONTAL_UNITS: METERS
HORIZONTAL_RESOLUTION: 1.00000
SECONDARY_HORIZONTAL_DATUM: NAD27
XY_ORIGIN: 293412.00000 5424622.00000
SECONDARY_XY_ORIGIN: 293475.02000 5424402.72000
NATION: US
STATE: MT
NW_QUAD_CORNER_XY: 294040.64000 5424320.86000
NE_QUAD_CORNER_XY: 298617.03000 5424153.23000
SE_QUAD_CORNERY_XY: 298365.56000 5417206.60000
SW_QUAD_CORNER_XY: 293783.45000 5417374.28000
SECONDARY_NW_QUAD_XY: 294034.03000 5424101.98000
SECONDARY_NE_QUAD_XY: 298610.57000 5423934.34000
SECONDARY_SE_QUAD_XY: 298359.10000 5416987.71000
SECONDARY_SW_QUAD_XY: 293776.84000 5417155.40000
RMSE_XY: 7.20000
IMAGE_SOURCE: BLACK AND WHITE FILM
SOURCE_IMAGE_ID: NAPP 5615 101
SOURCE_IMAGE_DATE: 1991 8 26
SOURCE_IMAGE_ID: NAPP 5615 202
SOURCE_IMAGE_DATE: 1991 8 26
SOURCE_IMAGE_ID: NAPP 5615 000
SOURCE_IMAGE_DATE: 1991 8 26
SOURCE_DEM_DATE: 1995 5 4
AGENCY: WESTERN MAPPING CENTER (WMC)
PRODUCER: Science Applications International
PRODUCTION_SYSTEM: GIS/MAGIC
COMPRESSION: UNDEFINED
STANDARD_VERSION: 1996 12
METADATA_DATE: 1997 5 20
DATA_FILE_SIZE: 42508533
BYTE_COUNT: 5507
