FILENAME: O4811303.SES.47621.tif
QUADRANGLE_NAME: GABLE MOUNTAIN
QUADRANT: SE
WEST_LONGITUDE: -113 41 15.00000
EAST_LONGITUDE: -113 37 30.00000
NORTH_LATITUDE: 48 56 15.00000
SOUTH_LATITUDE: 48 52 30.00000
PRODUCTION_DATE: 1995 5 3
RASTER_ORDER: LEFT_RIGHT/TOP_BOTTOM
BAND_ORGANIZATION: SINGLE FILE
BAND_CONTENT: BLACK&WHITE
BAND_CONTENT: UNDEFINED
BAND_CONTENT: UNDEFINED
BITS_PER_PIXEL: 8
SAMPLES_AND_LINES: 5494 7710
HORIZONTAL_DATUM: NAD83
HORIZONTAL_COORDINATE_SYSTEM: UTM
COORDINATE_ZONE: 12
HORIZONTAL_UNITS: METERS
HORIZONTAL_RESOLUTION: 1.00000
SECONDARY_HORIZONTAL_DATUM: NAD27
XY_ORIGIN: 302577.00000 5424290.00000
SECONDARY_XY_ORIGIN: 302639.64000 5424070.53000
NATION: US
STATE: MT
NW_QUAD_CORNER_XY: 303193.45000 5423989.38000
NE_QUAD_CORNER_XY: 307769.91000 5423829.29000
SE_QUAD_CORNERY_XY: 307529.88000 5416882.56000
SW_QUAD_CORNER_XY: 302947.71000 5417042.69000
SECONDARY_NW_QUAD_XY: 303187.14000 5423770.48000
SECONDARY_NE_QUAD_XY: 307763.74000 5423610.39000
SECONDARY_SE_QUAD_XY: 307523.72000 5416663.66000
SECONDARY_SW_QUAD_XY: 302941.39000 5416823.80000
RMSE_XY: 4.50000
IMAGE_SOURCE: BLACK AND WHITE FILM
SOURCE_IMAGE_ID: NAPP 5615 11
SOURCE_IMAGE_DATE: 1991 8 26
SOURCE_IMAGE_ID: NAPP 5615 5615
SOURCE_IMAGE_DATE: 1991 8 26
SOURCE_IMAGE_ID: NAPP 5615 22
SOURCE_IMAGE_DATE: 1991 8 26
SOURCE_DEM_DATE: 1995 5 3
AGENCY: WESTERN MAPPING CENTER (WMC)
PRODUCER: Science Applications International
PRODUCTION_SYSTEM: GIS/MAGIC
COMPRESSION: UNDEFINED
STANDARD_VERSION: 1996 12
METADATA_DATE: 1997 5 20
DATA_FILE_SIZE: 42364234
BYTE_COUNT: 5494
