FILENAME: O4811306.NES.47068.tif
QUADRANGLE_NAME: GOOSE LAKE
QUADRANT: NE
WEST_LONGITUDE: -113 18 45.00000
EAST_LONGITUDE: -113 15 0.00000
NORTH_LATITUDE: 49 0 0.00000
SOUTH_LATITUDE: 48 56 15.00000
PRODUCTION_DATE: 1994 11 18
RASTER_ORDER: LEFT_RIGHT/TOP_BOTTOM
BAND_ORGANIZATION: SINGLE FILE
BAND_CONTENT: BLACK&WHITE
BAND_CONTENT: UNDEFINED
BAND_CONTENT: UNDEFINED
BITS_PER_PIXEL: 8
SAMPLES_AND_LINES: 5454 7689
HORIZONTAL_DATUM: NAD83
HORIZONTAL_COORDINATE_SYSTEM: UTM
COORDINATE_ZONE: 12
HORIZONTAL_UNITS: METERS
HORIZONTAL_RESOLUTION: 1.00000
SECONDARY_HORIZONTAL_DATUM: NAD27
XY_ORIGIN: 330283.00000 5430334.00000
SECONDARY_XY_ORIGIN: 330345.42600 5430114.36100
NATION: US
NATION: CA
STATE: MT
NW_QUAD_CORNER_XY: 330864.25700 5430032.42600
NE_QUAD_CORNER_XY: 335435.16400 5429895.00200
SE_QUAD_CORNERY_XY: 335229.26300 5422947.94600
SW_QUAD_CORNER_XY: 330652.63200 5423085.41200
SECONDARY_NW_QUAD_XY: 330858.82500 5429813.49800
SECONDARY_NE_QUAD_XY: 335429.87800 5429676.07000
SECONDARY_SE_QUAD_XY: 335223.97700 5422729.01600
SECONDARY_SW_QUAD_XY: 330647.19900 5422866.48600
RMSE_XY: 4.80000
IMAGE_SOURCE: BLACK AND WHITE FILM
SOURCE_IMAGE_ID: NAPP 2614 008
SOURCE_IMAGE_DATE: 1990 9 3
SOURCE_DEM_DATE: 1994 11 18
AGENCY: WESTERN MAPPING CENTER (WMC)
PRODUCER: Science Applications International
PRODUCTION_SYSTEM: GIS/MAGIC
COMPRESSION: UNDEFINED
STANDARD_VERSION: 1996 12
METADATA_DATE: 1997 7 4
DATA_FILE_SIZE: 41941260
BYTE_COUNT: 5454
