FILENAME: O4811319.SES.47629.tif
QUADRANGLE_NAME: LOGAN PASS
QUADRANT: SE
WEST_LONGITUDE: -113 41 15.00000
EAST_LONGITUDE: -113 37 30.00000
NORTH_LATITUDE: 48 41 15.00000
SOUTH_LATITUDE: 48 37 30.00000
PRODUCTION_DATE: 1995 5 1
RASTER_ORDER: LEFT_RIGHT/TOP_BOTTOM
BAND_ORGANIZATION: SINGLE FILE
BAND_CONTENT: BLACK&WHITE
BAND_CONTENT: UNDEFINED
BAND_CONTENT: UNDEFINED
BITS_PER_PIXEL: 8
SAMPLES_AND_LINES: 5517 7711
HORIZONTAL_DATUM: NAD83
HORIZONTAL_COORDINATE_SYSTEM: UTM
COORDINATE_ZONE: 12
HORIZONTAL_UNITS: METERS
HORIZONTAL_RESOLUTION: 1.00000
SECONDARY_HORIZONTAL_DATUM: NAD27
XY_ORIGIN: 301596.00000 5396504.00000
SECONDARY_XY_ORIGIN: 301659.40000 5396285.50000
NATION: US
STATE: MT
NW_QUAD_CORNER_XY: 302211.89000 5396203.00000
NE_QUAD_CORNER_XY: 306811.20000 5396042.73000
SE_QUAD_CORNERY_XY: 306572.10000 5389096.24000
SW_QUAD_CORNER_XY: 301967.09000 5389256.56000
SECONDARY_NW_QUAD_XY: 302205.58000 5395984.12000
SECONDARY_NE_QUAD_XY: 306805.03000 5395823.84000
SECONDARY_SE_QUAD_XY: 306565.93000 5388877.36000
SECONDARY_SW_QUAD_XY: 301960.78000 5389037.68000
RMSE_XY: 4.60000
IMAGE_SOURCE: BLACK AND WHITE FILM
SOURCE_IMAGE_ID: NAPP 5615 99
SOURCE_IMAGE_DATE: 1991 8 26
SOURCE_IMAGE_ID: NAPP 5615 5615
SOURCE_IMAGE_DATE: 1991 8 26
SOURCE_IMAGE_ID: NAPP 5615 00
SOURCE_IMAGE_DATE: 1991 8 26
SOURCE_IMAGE_ID: NAPP 5615 5615
SOURCE_IMAGE_DATE: 1991 8 26
SOURCE_IMAGE_ID: NAPP 5615 88
SOURCE_IMAGE_DATE: 1991 8 26
SOURCE_DEM_DATE: 1995 5 1
AGENCY: WESTERN MAPPING CENTER (WMC)
PRODUCER: Science Applications International
PRODUCTION_SYSTEM: GIS/MAGIC
COMPRESSION: UNDEFINED
STANDARD_VERSION: 1996 12
METADATA_DATE: 1997 5 20
DATA_FILE_SIZE: 42547104
BYTE_COUNT: 5517
