FILENAME: O4811321.SWS.47269.tif
QUADRANGLE_NAME: SAINT MARY
QUADRANT: SW
WEST_LONGITUDE: -113 30 0.00000
EAST_LONGITUDE: -113 26 15.00000
NORTH_LATITUDE: 48 41 15.00000
SOUTH_LATITUDE: 48 37 30.00000
PRODUCTION_DATE: 1995 5 2
RASTER_ORDER: LEFT_RIGHT/TOP_BOTTOM
BAND_ORGANIZATION: SINGLE FILE
BAND_CONTENT: BLACK&WHITE
BAND_CONTENT: UNDEFINED
BAND_CONTENT: UNDEFINED
BITS_PER_PIXEL: 8
SAMPLES_AND_LINES: 5499 7699
HORIZONTAL_DATUM: NAD83
HORIZONTAL_COORDINATE_SYSTEM: UTM
COORDINATE_ZONE: 12
HORIZONTAL_UNITS: METERS
HORIZONTAL_RESOLUTION: 1.00000
SECONDARY_HORIZONTAL_DATUM: NAD27
XY_ORIGIN: 315412.00000 5396034.00000
SECONDARY_XY_ORIGIN: 315475.08000 5395815.59000
NATION: US
STATE: MT
NW_QUAD_CORNER_XY: 316009.90000 5395733.51000
NE_QUAD_CORNER_XY: 320609.29000 5395584.56000
SE_QUAD_CORNERY_XY: 320387.29000 5388637.95000
SW_QUAD_CORNER_XY: 315782.20000 5388786.94000
SECONDARY_NW_QUAD_XY: 316004.03000 5395514.62000
SECONDARY_NE_QUAD_XY: 320603.57000 5395365.66000
SECONDARY_SE_QUAD_XY: 320381.56000 5388419.05000
SECONDARY_SW_QUAD_XY: 315776.33000 5388568.04000
RMSE_XY: 3.90000
IMAGE_SOURCE: BLACK AND WHITE FILM
SOURCE_IMAGE_ID: NAPP 4614 55
SOURCE_IMAGE_DATE: 1991 8 22
SOURCE_IMAGE_ID: NAPP 4614 4614
SOURCE_IMAGE_DATE: 1991 8 22
SOURCE_IMAGE_ID: NAPP 4614 44
SOURCE_IMAGE_DATE: 1991 8 22
SOURCE_IMAGE_ID: NAPP 4614 4614
SOURCE_IMAGE_DATE: 1991 8 22
SOURCE_IMAGE_ID: NAPP 4614 66
SOURCE_IMAGE_DATE: 1991 8 22
SOURCE_DEM_DATE: 1995 5 2
AGENCY: WESTERN MAPPING CENTER (WMC)
PRODUCER: Science Applications International
PRODUCTION_SYSTEM: GIS/MAGIC
COMPRESSION: UNDEFINED
STANDARD_VERSION: 1996 12
METADATA_DATE: 1997 5 20
DATA_FILE_SIZE: 42342300
BYTE_COUNT: 5499
