FILENAME: O4811322.NES.47076.tif
QUADRANGLE_NAME: FOX CREEK
QUADRANT: NE
WEST_LONGITUDE: -113 18 45.00000
EAST_LONGITUDE: -113 15 0.00000
NORTH_LATITUDE: 48 45 0.00000
SOUTH_LATITUDE: 48 41 15.00000
PRODUCTION_DATE: 1994 11 18
RASTER_ORDER: LEFT_RIGHT/TOP_BOTTOM
BAND_ORGANIZATION: SINGLE FILE
BAND_CONTENT: BLACK&WHITE
BAND_CONTENT: UNDEFINED
BAND_CONTENT: UNDEFINED
BITS_PER_PIXEL: 8
SAMPLES_AND_LINES: 5476 7688
HORIZONTAL_DATUM: NAD83
HORIZONTAL_COORDINATE_SYSTEM: UTM
COORDINATE_ZONE: 12
HORIZONTAL_UNITS: METERS
HORIZONTAL_RESOLUTION: 1.00000
SECONDARY_HORIZONTAL_DATUM: NAD27
XY_ORIGIN: 329438.00000 5402545.00000
SECONDARY_XY_ORIGIN: 329501.32300 5402326.54600
NATION: US
STATE: MT
NW_QUAD_CORNER_XY: 330018.97400 5402244.75100
NE_QUAD_CORNER_XY: 334612.74500 5402107.16500
SE_QUAD_CORNERY_XY: 334407.63600 5395160.36600
SW_QUAD_CORNER_XY: 329808.16200 5395297.99100
SECONDARY_NW_QUAD_XY: 330013.54200 5402025.83600
SECONDARY_NE_QUAD_XY: 334607.46000 5401888.24500
SECONDARY_SE_QUAD_XY: 334402.35000 5394941.45100
SECONDARY_SW_QUAD_XY: 329802.73000 5395079.08100
RMSE_XY: 1.90000
IMAGE_SOURCE: BLACK AND WHITE FILM
SOURCE_IMAGE_ID: NAPP 2617 249
SOURCE_IMAGE_DATE: 1990 9 7
SOURCE_DEM_DATE: 1994 11 18
AGENCY: WESTERN MAPPING CENTER (WMC)
PRODUCER: Science Applications International
PRODUCTION_SYSTEM: GIS/MAGIC
COMPRESSION: UNDEFINED
STANDARD_VERSION: 1996 12
METADATA_DATE: 1997 7 4
DATA_FILE_SIZE: 42104964
BYTE_COUNT: 5476
