FILENAME: O4811323.SES.46879.tif
QUADRANGLE_NAME: HORSE LAKE
QUADRANT: SE
WEST_LONGITUDE: -113 11 15.00000
EAST_LONGITUDE: -113 7 30.00000
NORTH_LATITUDE: 48 41 15.00000
SOUTH_LATITUDE: 48 37 30.00000
PRODUCTION_DATE: 1994 11 18
RASTER_ORDER: LEFT_RIGHT/TOP_BOTTOM
BAND_ORGANIZATION: SINGLE FILE
BAND_CONTENT: BLACK&WHITE
BAND_CONTENT: UNDEFINED
BAND_CONTENT: UNDEFINED
BITS_PER_PIXEL: 8
SAMPLES_AND_LINES: 5470 7681
HORIZONTAL_DATUM: NAD83
HORIZONTAL_COORDINATE_SYSTEM: UTM
COORDINATE_ZONE: 12
HORIZONTAL_UNITS: METERS
HORIZONTAL_RESOLUTION: 1.00000
SECONDARY_HORIZONTAL_DATUM: NAD27
XY_ORIGIN: 338438.00000 5395327.00000
SECONDARY_XY_ORIGIN: 338501.38100 5395108.85300
NATION: US
STATE: MT
NW_QUAD_CORNER_XY: 339007.13400 5395026.51400
NE_QUAD_CORNER_XY: 343606.65800 5394896.43600
SE_QUAD_CORNERY_XY: 343413.13900 5387949.62800
SW_QUAD_CORNER_XY: 338807.92000 5388079.74200
SECONDARY_NW_QUAD_XY: 339001.99600 5394807.59500
SECONDARY_NE_QUAD_XY: 343601.66600 5394677.51300
SECONDARY_SE_QUAD_XY: 343408.14800 5387730.71100
SECONDARY_SW_QUAD_XY: 338802.78100 5387860.82900
RMSE_XY: 0.80000
IMAGE_SOURCE: BLACK AND WHITE FILM
SOURCE_IMAGE_ID: NAPP 2607 061
SOURCE_IMAGE_DATE: 1990 7 12
SOURCE_DEM_DATE: 1994 11 18
AGENCY: WESTERN MAPPING CENTER (WMC)
PRODUCER: Science Applications International
PRODUCTION_SYSTEM: GIS/MAGIC
COMPRESSION: UNDEFINED
STANDARD_VERSION: 1996 12
METADATA_DATE: 1997 7 4
DATA_FILE_SIZE: 42020540
BYTE_COUNT: 5470
