FILENAME: O4811325.SES.47931.tif
QUADRANGLE_NAME: LAKE MCDONALD WEST
QUADRANT: SE
WEST_LONGITUDE: -113 56 15.00000
EAST_LONGITUDE: -113 52 30.00000
NORTH_LATITUDE: 48 33 45.00000
SOUTH_LATITUDE: 48 30 0.00000
PRODUCTION_DATE: 1994 11 4
RASTER_ORDER: LEFT_RIGHT/TOP_BOTTOM
BAND_ORGANIZATION: SINGLE FILE
BAND_CONTENT: BLACK&WHITE
BAND_CONTENT: UNDEFINED
BAND_CONTENT: UNDEFINED
BITS_PER_PIXEL: 8
SAMPLES_AND_LINES: 5551 7726
HORIZONTAL_DATUM: NAD83
HORIZONTAL_COORDINATE_SYSTEM: UTM
COORDINATE_ZONE: 12
HORIZONTAL_UNITS: METERS
HORIZONTAL_RESOLUTION: 1.00000
SECONDARY_HORIZONTAL_DATUM: NAD27
XY_ORIGIN: 282641.00000 5383290.00000
SECONDARY_XY_ORIGIN: 282704.44800 5383071.94200
NATION: US
STATE: MT
NW_QUAD_CORNER_XY: 283280.02500 5382989.40400
NE_QUAD_CORNER_XY: 287890.60500 5382813.92900
SE_QUAD_CORNERY_XY: 287629.21200 5375867.73800
SW_QUAD_CORNER_XY: 283012.94200 5376043.26100
SECONDARY_NW_QUAD_XY: 283273.12500 5382770.55600
SECONDARY_NE_QUAD_XY: 287883.85100 5382595.07600
SECONDARY_SE_QUAD_XY: 287622.45900 5375648.89300
SECONDARY_SW_QUAD_XY: 283006.04200 5375824.42100
RMSE_XY: 4.20000
IMAGE_SOURCE: BLACK AND WHITE FILM
SOURCE_IMAGE_ID: NAPP 2634 064
SOURCE_IMAGE_DATE: 1991 8 3
SOURCE_DEM_DATE: 1994 11 4
AGENCY: WESTERN MAPPING CENTER (WMC)
PRODUCER: Science Applications International
PRODUCTION_SYSTEM: GIS/MAGIC
COMPRESSION: UNDEFINED
STANDARD_VERSION: 1996 12
METADATA_DATE: 1997 7 28
DATA_FILE_SIZE: 42892577
BYTE_COUNT: 5551
