FILENAME: O4811327.NES.47631.tif
QUADRANGLE_NAME: MOUNT JACKSON
QUADRANT: NE
WEST_LONGITUDE: -113 41 15.00000
EAST_LONGITUDE: -113 37 30.00000
NORTH_LATITUDE: 48 37 30.00000
SOUTH_LATITUDE: 48 33 45.00000
PRODUCTION_DATE: 1995 4 27
RASTER_ORDER: LEFT_RIGHT/TOP_BOTTOM
BAND_ORGANIZATION: SINGLE FILE
BAND_CONTENT: BLACK&WHITE
BAND_CONTENT: UNDEFINED
BAND_CONTENT: UNDEFINED
BITS_PER_PIXEL: 8
SAMPLES_AND_LINES: 5523 7711
HORIZONTAL_DATUM: NAD83
HORIZONTAL_COORDINATE_SYSTEM: UTM
COORDINATE_ZONE: 12
HORIZONTAL_UNITS: METERS
HORIZONTAL_RESOLUTION: 1.00000
SECONDARY_HORIZONTAL_DATUM: NAD27
XY_ORIGIN: 301351.00000 5389557.00000
SECONDARY_XY_ORIGIN: 301414.43000 5389338.76000
NATION: US
STATE: MT
NW_QUAD_CORNER_XY: 301967.09000 5389256.56000
NE_QUAD_CORNER_XY: 306572.10000 5389096.24000
SE_QUAD_CORNERY_XY: 306333.23000 5382149.81000
SW_QUAD_CORNER_XY: 301722.53000 5382310.18000
SECONDARY_NW_QUAD_XY: 301960.78000 5389037.68000
SECONDARY_NE_QUAD_XY: 306565.93000 5388877.36000
SECONDARY_SE_QUAD_XY: 306327.06000 5381930.94000
SECONDARY_SW_QUAD_XY: 301716.22000 5382091.31000
RMSE_XY: 6.70000
IMAGE_SOURCE: BLACK AND WHITE FILM
SOURCE_IMAGE_ID: NAPP 5615 11
SOURCE_IMAGE_DATE: 1991 8 26
SOURCE_IMAGE_ID: NAPP 5615 5615
SOURCE_IMAGE_DATE: 1991 8 26
SOURCE_IMAGE_ID: NAPP 5615 22
SOURCE_IMAGE_DATE: 1991 8 26
SOURCE_IMAGE_ID: NAPP 5615 5615
SOURCE_IMAGE_DATE: 1991 8 26
SOURCE_IMAGE_ID: NAPP 5615 00
SOURCE_IMAGE_DATE: 1991 8 26
SOURCE_DEM_DATE: 1995 4 27
AGENCY: WESTERN MAPPING CENTER (WMC)
PRODUCER: Science Applications International
PRODUCTION_SYSTEM: GIS/MAGIC
COMPRESSION: UNDEFINED
STANDARD_VERSION: 1996 12
METADATA_DATE: 1997 5 20
DATA_FILE_SIZE: 42593376
BYTE_COUNT: 5523
