FILENAME: O4811328.NES.47451.tif
QUADRANGLE_NAME: MOUNT STIMSON
QUADRANT: NE
WEST_LONGITUDE: -113 33 45.00000
EAST_LONGITUDE: -113 30 0.00000
NORTH_LATITUDE: 48 37 30.00000
SOUTH_LATITUDE: 48 33 45.00000
PRODUCTION_DATE: 1995 4 27
RASTER_ORDER: LEFT_RIGHT/TOP_BOTTOM
BAND_ORGANIZATION: SINGLE FILE
BAND_CONTENT: BLACK&WHITE
BAND_CONTENT: UNDEFINED
BAND_CONTENT: UNDEFINED
BITS_PER_PIXEL: 8
SAMPLES_AND_LINES: 5511 7703
HORIZONTAL_DATUM: NAD83
HORIZONTAL_COORDINATE_SYSTEM: UTM
COORDINATE_ZONE: 12
HORIZONTAL_UNITS: METERS
HORIZONTAL_RESOLUTION: 1.00000
SECONDARY_HORIZONTAL_DATUM: NAD27
XY_ORIGIN: 310573.00000 5389240.00000
SECONDARY_XY_ORIGIN: 310636.28000 5389021.85000
NATION: US
STATE: MT
NW_QUAD_CORNER_XY: 311177.13000 5388939.70000
NE_QUAD_CORNER_XY: 315782.20000 5388786.94000
SE_QUAD_CORNERY_XY: 315554.72000 5381840.42000
SW_QUAD_CORNER_XY: 310943.96000 5381993.23000
SECONDARY_NW_QUAD_XY: 311171.11000 5388720.82000
SECONDARY_NE_QUAD_XY: 315776.33000 5388568.04000
SECONDARY_SE_QUAD_XY: 315548.85000 5381621.54000
SECONDARY_SW_QUAD_XY: 310937.94000 5381774.35000
RMSE_XY: 5.40000
IMAGE_SOURCE: BLACK AND WHITE FILM
SOURCE_IMAGE_ID: NAPP 5615 22
SOURCE_IMAGE_DATE: 1991 8 26
SOURCE_IMAGE_ID: NAPP 5615 5615
SOURCE_IMAGE_DATE: 1991 8 26
SOURCE_IMAGE_ID: NAPP 5615 11
SOURCE_IMAGE_DATE: 1991 8 26
SOURCE_DEM_DATE: 1995 4 27
AGENCY: WESTERN MAPPING CENTER (WMC)
PRODUCER: Science Applications International
PRODUCTION_SYSTEM: GIS/MAGIC
COMPRESSION: UNDEFINED
STANDARD_VERSION: 1996 12
METADATA_DATE: 1997 5 20
DATA_FILE_SIZE: 42456744
BYTE_COUNT: 5511
