FILENAME: O4811332.NES.46710.tif
QUADRANGLE_NAME: BROWNING
QUADRANT: NE
WEST_LONGITUDE: -113 3 45.00000
EAST_LONGITUDE: -113 0 0.00000
NORTH_LATITUDE: 48 37 30.00000
SOUTH_LATITUDE: 48 33 45.00000
PRODUCTION_DATE: 1994 12 22
RASTER_ORDER: LEFT_RIGHT/TOP_BOTTOM
BAND_ORGANIZATION: SINGLE FILE
BAND_CONTENT: BLACK&WHITE
BAND_CONTENT: UNDEFINED
BAND_CONTENT: UNDEFINED
BITS_PER_PIXEL: 8
SAMPLES_AND_LINES: 5464 7674
HORIZONTAL_DATUM: NAD83
HORIZONTAL_COORDINATE_SYSTEM: UTM
COORDINATE_ZONE: 12
HORIZONTAL_UNITS: METERS
HORIZONTAL_RESOLUTION: 1.00000
SECONDARY_HORIZONTAL_DATUM: NAD27
XY_ORIGIN: 347461.00000 5388124.00000
SECONDARY_XY_ORIGIN: 347524.18400 5387906.06400
NATION: US
STATE: MT
NW_QUAD_CORNER_XY: 348018.38200 5387823.28800
NE_QUAD_CORNER_XY: 352623.64700 5387700.72200
SE_QUAD_CORNERY_XY: 352441.69700 5380753.91100
SW_QUAD_CORNER_XY: 347830.74100 5380876.51100
SECONDARY_NW_QUAD_XY: 348013.53700 5387604.36600
SECONDARY_NE_QUAD_XY: 352618.94900 5387481.79600
SECONDARY_SE_QUAD_XY: 352436.99900 5380534.99200
SECONDARY_SW_QUAD_XY: 347825.89700 5380657.59600
RMSE_XY: 0.70000
IMAGE_SOURCE: BLACK AND WHITE FILM
SOURCE_IMAGE_ID: PAPP 7607 515
SOURCE_IMAGE_DATE: 1990 7 12
SOURCE_DEM_DATE: 1994 12 22
AGENCY: WESTERN MAPPING CENTER (WMC)
PRODUCER: Science Applications International
PRODUCTION_SYSTEM: GIS/MAGIC
COMPRESSION: UNDEFINED
STANDARD_VERSION: 1996 12
METADATA_DATE: 1997 5 20
DATA_FILE_SIZE: 41936200
BYTE_COUNT: 5464
