FILENAME: O4811333.NES.47933.tif
QUADRANGLE_NAME: WEST GLACIER
QUADRANT: NE
WEST_LONGITUDE: -113 56 15.00000
EAST_LONGITUDE: -113 52 30.00000
NORTH_LATITUDE: 48 30 0.00000
SOUTH_LATITUDE: 48 26 15.00000
PRODUCTION_DATE: 1994 11 4
RASTER_ORDER: LEFT_RIGHT/TOP_BOTTOM
BAND_ORGANIZATION: SINGLE FILE
BAND_CONTENT: BLACK&WHITE
BAND_CONTENT: UNDEFINED
BAND_CONTENT: UNDEFINED
BITS_PER_PIXEL: 8
SAMPLES_AND_LINES: 5557 7726
HORIZONTAL_DATUM: NAD83
HORIZONTAL_COORDINATE_SYSTEM: UTM
COORDINATE_ZONE: 12
HORIZONTAL_UNITS: METERS
HORIZONTAL_RESOLUTION: 1.00000
SECONDARY_HORIZONTAL_DATUM: NAD27
XY_ORIGIN: 282374.00000 5376344.00000
SECONDARY_XY_ORIGIN: 282437.42200 5376126.14100
NATION: US
STATE: MT
NW_QUAD_CORNER_XY: 283012.94200 5376043.26100
NE_QUAD_CORNER_XY: 287629.21200 5375867.73800
SE_QUAD_CORNERY_XY: 287368.07400 5368921.60500
SW_QUAD_CORNER_XY: 282746.11800 5369097.17300
SECONDARY_NW_QUAD_XY: 283006.04200 5375824.42100
SECONDARY_NE_QUAD_XY: 287622.45900 5375648.89300
SECONDARY_SE_QUAD_XY: 287361.32100 5368702.76800
SECONDARY_SW_QUAD_XY: 282739.21800 5368878.34200
RMSE_XY: 2.50000
IMAGE_SOURCE: BLACK AND WHITE FILM
SOURCE_IMAGE_ID: NAPP 2634 066
SOURCE_IMAGE_DATE: 1991 8 3
SOURCE_DEM_DATE: 1994 11 4
AGENCY: WESTERN MAPPING CENTER (WMC)
PRODUCER: Science Applications International
PRODUCTION_SYSTEM: GIS/MAGIC
COMPRESSION: UNDEFINED
STANDARD_VERSION: 1996 12
METADATA_DATE: 1997 7 28
DATA_FILE_SIZE: 42938939
BYTE_COUNT: 5557
