FILENAME: O4811335.SES.47637.tif
QUADRANGLE_NAME: STANTON LAKE
QUADRANT: SE
WEST_LONGITUDE: -113 41 15.00000
EAST_LONGITUDE: -113 37 30.00000
NORTH_LATITUDE: 48 26 15.00000
SOUTH_LATITUDE: 48 22 30.00000
PRODUCTION_DATE: 1994 11 4
RASTER_ORDER: LEFT_RIGHT/TOP_BOTTOM
BAND_ORGANIZATION: SINGLE FILE
BAND_CONTENT: BLACK&WHITE
BAND_CONTENT: UNDEFINED
BAND_CONTENT: UNDEFINED
BITS_PER_PIXEL: 8
SAMPLES_AND_LINES: 5539 7711
HORIZONTAL_DATUM: NAD83
HORIZONTAL_COORDINATE_SYSTEM: UTM
COORDINATE_ZONE: 12
HORIZONTAL_UNITS: METERS
HORIZONTAL_RESOLUTION: 1.00000
SECONDARY_HORIZONTAL_DATUM: NAD27
XY_ORIGIN: 300619.00000 5368718.00000
SECONDARY_XY_ORIGIN: 300682.48700 5368500.45000
NATION: US
STATE: MT
NW_QUAD_CORNER_XY: 301234.11900 5368417.58300
NE_QUAD_CORNER_XY: 305856.19200 5368257.13500
SE_QUAD_CORNERY_XY: 305618.02100 5361310.88600
SW_QUAD_CORNER_XY: 300990.27100 5361471.37500
SECONDARY_NW_QUAD_XY: 301227.80700 5368198.72900
SECONDARY_NE_QUAD_XY: 305850.02600 5368038.27700
SECONDARY_SE_QUAD_XY: 305611.85600 5361092.03700
SECONDARY_SW_QUAD_XY: 300983.95900 5361252.53100
RMSE_XY: 5.20000
IMAGE_SOURCE: BLACK AND WHITE FILM
SOURCE_IMAGE_ID: PAPP 5615 777
SOURCE_IMAGE_DATE: 1991 8 26
SOURCE_DEM_DATE: 1994 11 4
AGENCY: WESTERN MAPPING CENTER (WMC)
PRODUCER: Science Applications International
PRODUCTION_SYSTEM: GIS/MAGIC
COMPRESSION: UNDEFINED
STANDARD_VERSION: 1996 12
METADATA_DATE: 1997 5 20
DATA_FILE_SIZE: 42716768
BYTE_COUNT: 5539
