FILENAME: O4811335.NWS.47636.tif
QUADRANGLE_NAME: STANTON LAKE
QUADRANT: NW
WEST_LONGITUDE: -113 45 0.00000
EAST_LONGITUDE: -113 41 15.00000
NORTH_LATITUDE: 48 30 0.00000
SOUTH_LATITUDE: 48 26 15.00000
PRODUCTION_DATE: 1994 11 4
RASTER_ORDER: LEFT_RIGHT/TOP_BOTTOM
BAND_ORGANIZATION: SINGLE FILE
BAND_CONTENT: BLACK&WHITE
BAND_CONTENT: UNDEFINED
BAND_CONTENT: UNDEFINED
BITS_PER_PIXEL: 8
SAMPLES_AND_LINES: 5539 7715
HORIZONTAL_DATUM: NAD83
HORIZONTAL_COORDINATE_SYSTEM: UTM
COORDINATE_ZONE: 12
HORIZONTAL_UNITS: METERS
HORIZONTAL_RESOLUTION: 1.00000
SECONDARY_HORIZONTAL_DATUM: NAD27
XY_ORIGIN: 296241.00000 5375829.00000
SECONDARY_XY_ORIGIN: 296304.50700 5375611.19400
NATION: US
STATE: MT
NW_QUAD_CORNER_XY: 296861.84500 5375528.03300
NE_QUAD_CORNER_XY: 301478.20500 5375363.85000
SE_QUAD_CORNERY_XY: 301234.11900 5368417.58300
SW_QUAD_CORNER_XY: 296612.07500 5368581.81000
SECONDARY_NW_QUAD_XY: 296855.38500 5375309.17700
SECONDARY_NE_QUAD_XY: 301471.89300 5375144.98800
SECONDARY_SE_QUAD_XY: 301227.80700 5368198.72900
SECONDARY_SW_QUAD_XY: 296605.61500 5368362.96200
RMSE_XY: 2.60000
IMAGE_SOURCE: BLACK AND WHITE FILM
SOURCE_IMAGE_ID: PAPP 7617 949
SOURCE_IMAGE_DATE: 1990 9 7
SOURCE_DEM_DATE: 1994 11 4
AGENCY: WESTERN MAPPING CENTER (WMC)
PRODUCER: Science Applications International
PRODUCTION_SYSTEM: GIS/MAGIC
COMPRESSION: UNDEFINED
STANDARD_VERSION: 1996 12
METADATA_DATE: 1997 5 20
DATA_FILE_SIZE: 42738924
BYTE_COUNT: 5539
