FILENAME: O4811335.NES.47635.tif
QUADRANGLE_NAME: STANTON LAKE
QUADRANT: NE
WEST_LONGITUDE: -113 41 15.00000
EAST_LONGITUDE: -113 37 30.00000
NORTH_LATITUDE: 48 30 0.00000
SOUTH_LATITUDE: 48 26 15.00000
PRODUCTION_DATE: 1995 4 26
RASTER_ORDER: LEFT_RIGHT/TOP_BOTTOM
BAND_ORGANIZATION: SINGLE FILE
BAND_CONTENT: BLACK&WHITE
BAND_CONTENT: UNDEFINED
BAND_CONTENT: UNDEFINED
BITS_PER_PIXEL: 8
SAMPLES_AND_LINES: 5533 7711
HORIZONTAL_DATUM: NAD83
HORIZONTAL_COORDINATE_SYSTEM: UTM
COORDINATE_ZONE: 12
HORIZONTAL_UNITS: METERS
HORIZONTAL_RESOLUTION: 1.00000
SECONDARY_HORIZONTAL_DATUM: NAD27
XY_ORIGIN: 300863.00000 5375664.00000
SECONDARY_XY_ORIGIN: 300926.50000 5375446.28000
NATION: US
STATE: MT
NW_QUAD_CORNER_XY: 301478.21000 5375363.85000
NE_QUAD_CORNER_XY: 306094.59000 5375203.44000
SE_QUAD_CORNERY_XY: 305856.19000 5368257.14000
SW_QUAD_CORNER_XY: 301234.12000 5368417.58000
SECONDARY_NW_QUAD_XY: 301471.89000 5375144.99000
SECONDARY_NE_QUAD_XY: 306088.43000 5374984.58000
SECONDARY_SE_QUAD_XY: 305850.03000 5368038.28000
SECONDARY_SW_QUAD_XY: 301227.81000 5368198.73000
RMSE_XY: 3.20000
IMAGE_SOURCE: BLACK AND WHITE FILM
SOURCE_IMAGE_ID: NAPP 5615 55
SOURCE_IMAGE_DATE: 1991 8 26
SOURCE_IMAGE_ID: NAPP 5615 5615
SOURCE_IMAGE_DATE: 1991 8 26
SOURCE_IMAGE_ID: NAPP 5615 44
SOURCE_IMAGE_DATE: 1991 8 26
SOURCE_DEM_DATE: 1995 4 26
AGENCY: WESTERN MAPPING CENTER (WMC)
PRODUCER: Science Applications International
PRODUCTION_SYSTEM: GIS/MAGIC
COMPRESSION: UNDEFINED
STANDARD_VERSION: 1996 12
METADATA_DATE: 1997 5 20
DATA_FILE_SIZE: 42670496
BYTE_COUNT: 5533
