FILENAME: O4811343.NES.47639.tif
QUADRANGLE_NAME: PINNACLE
QUADRANT: NE
WEST_LONGITUDE: -113 41 15.00000
EAST_LONGITUDE: -113 37 30.00000
NORTH_LATITUDE: 48 22 30.00000
SOUTH_LATITUDE: 48 18 45.00000
PRODUCTION_DATE: 1994 11 4
RASTER_ORDER: LEFT_RIGHT/TOP_BOTTOM
BAND_ORGANIZATION: SINGLE FILE
BAND_CONTENT: BLACK&WHITE
BAND_CONTENT: UNDEFINED
BAND_CONTENT: UNDEFINED
BITS_PER_PIXEL: 8
SAMPLES_AND_LINES: 5545 7712
HORIZONTAL_DATUM: NAD83
HORIZONTAL_COORDINATE_SYSTEM: UTM
COORDINATE_ZONE: 12
HORIZONTAL_UNITS: METERS
HORIZONTAL_RESOLUTION: 1.00000
SECONDARY_HORIZONTAL_DATUM: NAD27
XY_ORIGIN: 300375.00000 5361772.00000
SECONDARY_XY_ORIGIN: 300438.47600 5361554.61700
NATION: US
STATE: MT
NW_QUAD_CORNER_XY: 300990.27100 5361471.37500
NE_QUAD_CORNER_XY: 305618.02100 5361310.88600
SE_QUAD_CORNERY_XY: 305380.08300 5354364.69700
SW_QUAD_CORNER_XY: 300746.66000 5354525.22600
SECONDARY_NW_QUAD_XY: 300983.95900 5361252.53100
SECONDARY_NE_QUAD_XY: 305611.85600 5361092.03700
SECONDARY_SE_QUAD_XY: 305373.91800 5354145.85800
SECONDARY_SW_QUAD_XY: 300740.34900 5354306.39300
RMSE_XY: 2.50000
IMAGE_SOURCE: BLACK AND WHITE FILM
SOURCE_IMAGE_ID: PAPP 0610 131
SOURCE_IMAGE_DATE: 1990 8 7
SOURCE_DEM_DATE: 1994 11 4
AGENCY: WESTERN MAPPING CENTER (WMC)
PRODUCER: Science Applications International
PRODUCTION_SYSTEM: GIS/MAGIC
COMPRESSION: UNDEFINED
STANDARD_VERSION: 1996 12
METADATA_DATE: 1997 5 20
DATA_FILE_SIZE: 42768585
BYTE_COUNT: 5545
