FILENAME: O4811345.NWS.47279.tif
QUADRANGLE_NAME: BLACKTAIL
QUADRANT: NW
WEST_LONGITUDE: -113 30 0.00000
EAST_LONGITUDE: -113 26 15.00000
NORTH_LATITUDE: 48 22 30.00000
SOUTH_LATITUDE: 48 18 45.00000
PRODUCTION_DATE: 1995 4 27
RASTER_ORDER: LEFT_RIGHT/TOP_BOTTOM
BAND_ORGANIZATION: SINGLE FILE
BAND_CONTENT: BLACK&WHITE
BAND_CONTENT: UNDEFINED
BAND_CONTENT: UNDEFINED
BITS_PER_PIXEL: 8
SAMPLES_AND_LINES: 5527 7701
HORIZONTAL_DATUM: NAD83
HORIZONTAL_COORDINATE_SYSTEM: UTM
COORDINATE_ZONE: 12
HORIZONTAL_UNITS: METERS
HORIZONTAL_RESOLUTION: 1.00000
SECONDARY_HORIZONTAL_DATUM: NAD27
XY_ORIGIN: 314276.00000 5361302.00000
SECONDARY_XY_ORIGIN: 314339.53000 5361084.89000
NATION: US
STATE: MT
NW_QUAD_CORNER_XY: 314873.60000 5361001.25000
NE_QUAD_CORNER_XY: 319501.43000 5360852.10000
SE_QUAD_CORNERY_XY: 319280.51000 5353905.80000
SW_QUAD_CORNER_XY: 314647.01000 5354054.98000
SECONDARY_NW_QUAD_XY: 314867.73000 5360782.39000
SECONDARY_NE_QUAD_XY: 319495.71000 5360633.24000
SECONDARY_SE_QUAD_XY: 319274.78000 5353686.94000
SECONDARY_SW_QUAD_XY: 314641.14000 5353836.13000
RMSE_XY: 6.30000
IMAGE_SOURCE: BLACK AND WHITE FILM
SOURCE_IMAGE_ID: NAPP 5615 00
SOURCE_IMAGE_DATE: 1991 8 26
SOURCE_IMAGE_ID: NAPP 5615 5615
SOURCE_IMAGE_DATE: 1991 8 26
SOURCE_IMAGE_ID: NAPP 5615 9
SOURCE_IMAGE_DATE: 1991 8 26
SOURCE_IMAGE_ID: NAPP 5615 5615
SOURCE_IMAGE_DATE: 1991 8 26
SOURCE_IMAGE_ID: NAPP 5615 11
SOURCE_IMAGE_DATE: 1991 8 26
SOURCE_DEM_DATE: 1995 4 27
AGENCY: WESTERN MAPPING CENTER (WMC)
PRODUCER: Science Applications International
PRODUCTION_SYSTEM: GIS/MAGIC
COMPRESSION: UNDEFINED
STANDARD_VERSION: 1996 12
METADATA_DATE: 1997 5 20
DATA_FILE_SIZE: 42568954
BYTE_COUNT: 5527
