FILENAME: O4811346.NWS.47089.tif
QUADRANGLE_NAME: SUMMIT
QUADRANT: NW
WEST_LONGITUDE: -113 22 30.00000
EAST_LONGITUDE: -113 18 45.00000
NORTH_LATITUDE: 48 22 30.00000
SOUTH_LATITUDE: 48 18 45.00000
PRODUCTION_DATE: 1994 11 18
RASTER_ORDER: LEFT_RIGHT/TOP_BOTTOM
BAND_ORGANIZATION: SINGLE FILE
BAND_CONTENT: BLACK&WHITE
BAND_CONTENT: UNDEFINED
BAND_CONTENT: UNDEFINED
BITS_PER_PIXEL: 8
SAMPLES_AND_LINES: 5515 7693
HORIZONTAL_DATUM: NAD83
HORIZONTAL_COORDINATE_SYSTEM: UTM
COORDINATE_ZONE: 12
HORIZONTAL_UNITS: METERS
HORIZONTAL_RESOLUTION: 1.00000
SECONDARY_HORIZONTAL_DATUM: NAD27
XY_ORIGIN: 323544.00000 5361007.00000
SECONDARY_XY_ORIGIN: 323607.45100 5360789.90200
NATION: US
STATE: MT
NW_QUAD_CORNER_XY: 324129.28600 5360706.73300
NE_QUAD_CORNER_XY: 328757.16500 5360565.14400
SE_QUAD_CORNERY_XY: 328547.58100 5353618.76500
SW_QUAD_CORNER_XY: 323914.03200 5353760.39000
SECONDARY_NW_QUAD_XY: 324123.70800 5360487.86500
SECONDARY_NE_QUAD_XY: 328751.73400 5360346.27100
SECONDARY_SE_QUAD_XY: 328542.15000 5353399.90200
SECONDARY_SW_QUAD_XY: 323908.45400 5353541.53200
RMSE_XY: 1.50000
IMAGE_SOURCE: BLACK AND WHITE FILM
SOURCE_IMAGE_ID: PAPP 4614 313
SOURCE_IMAGE_DATE: 1991 8 22
SOURCE_DEM_DATE: 1994 11 18
AGENCY: WESTERN MAPPING CENTER (WMC)
PRODUCER: Science Applications International
PRODUCTION_SYSTEM: GIS/MAGIC
COMPRESSION: UNDEFINED
STANDARD_VERSION: 1996 12
METADATA_DATE: 1997 5 20
DATA_FILE_SIZE: 42432410
BYTE_COUNT: 5515
