FILENAME: O4811352.SWS.47466.tif
QUADRANGLE_NAME: NIMROD
QUADRANT: SW
WEST_LONGITUDE: -113 37 30.00000
EAST_LONGITUDE: -113 33 45.00000
NORTH_LATITUDE: 48 11 15.00000
SOUTH_LATITUDE: 48 7 30.00000
PRODUCTION_DATE: 1994 11 14
RASTER_ORDER: LEFT_RIGHT/TOP_BOTTOM
BAND_ORGANIZATION: SINGLE FILE
BAND_CONTENT: BLACK&WHITE
BAND_CONTENT: UNDEFINED
BAND_CONTENT: UNDEFINED
BITS_PER_PIXEL: 8
SAMPLES_AND_LINES: 5554 7709
HORIZONTAL_DATUM: NAD83
HORIZONTAL_COORDINATE_SYSTEM: UTM
COORDINATE_ZONE: 12
HORIZONTAL_UNITS: METERS
HORIZONTAL_RESOLUTION: 1.00000
SECONDARY_HORIZONTAL_DATUM: NAD27
XY_ORIGIN: 304297.00000 5340773.00000
SECONDARY_XY_ORIGIN: 304360.37100 5340556.38700
NATION: US
STATE: MT
NW_QUAD_CORNER_XY: 304904.90600 5340472.49800
NE_QUAD_CORNER_XY: 309549.68100 5340315.67200
SE_QUAD_CORNERY_XY: 309318.09800 5333369.62500
SW_QUAD_CORNER_XY: 304667.66800 5333526.48900
SECONDARY_NW_QUAD_XY: 304898.74200 5340253.68200
SECONDARY_NE_QUAD_XY: 309543.66400 5340096.85100
SECONDARY_SE_QUAD_XY: 309312.08100 5333150.81700
SECONDARY_SW_QUAD_XY: 304661.50400 5333307.68500
RMSE_XY: 3.00000
IMAGE_SOURCE: BLACK AND WHITE FILM
SOURCE_IMAGE_ID: NAPP 2610 022
SOURCE_IMAGE_DATE: 1990 8 7
SOURCE_DEM_DATE: 1994 11 14
AGENCY: WESTERN MAPPING CENTER (WMC)
PRODUCER: Science Applications International
PRODUCTION_SYSTEM: IIS/PRISM
COMPRESSION: UNDEFINED
STANDARD_VERSION: 1996 12
METADATA_DATE: 1997 7 4
DATA_FILE_SIZE: 42821340
BYTE_COUNT: 5554
