FILENAME: O4811352.NWS.47464.tif
QUADRANGLE_NAME: NIMROD
QUADRANT: NW
WEST_LONGITUDE: -113 37 30.00000
EAST_LONGITUDE: -113 33 45.00000
NORTH_LATITUDE: 48 15 0.00000
SOUTH_LATITUDE: 48 11 15.00000
PRODUCTION_DATE: 1995 4 28
RASTER_ORDER: LEFT_RIGHT/TOP_BOTTOM
BAND_ORGANIZATION: SINGLE FILE
BAND_CONTENT: BLACK&WHITE
BAND_CONTENT: UNDEFINED
BAND_CONTENT: UNDEFINED
BITS_PER_PIXEL: 8
SAMPLES_AND_LINES: 5549 7708
HORIZONTAL_DATUM: NAD83
HORIZONTAL_COORDINATE_SYSTEM: UTM
COORDINATE_ZONE: 12
HORIZONTAL_UNITS: METERS
HORIZONTAL_RESOLUTION: 1.00000
SECONDARY_HORIZONTAL_DATUM: NAD27
XY_ORIGIN: 304534.00000 5347719.00000
SECONDARY_XY_ORIGIN: 304597.50000 5347502.03000
NATION: US
STATE: MT
NW_QUAD_CORNER_XY: 305142.38000 5347418.57000
NE_QUAD_CORNER_XY: 309781.49000 5347261.78000
SE_QUAD_CORNERY_XY: 309549.68000 5340315.67000
SW_QUAD_CORNER_XY: 304904.91000 5340472.50000
SECONDARY_NW_QUAD_XY: 305136.21000 5347199.74000
SECONDARY_NE_QUAD_XY: 309775.47000 5347042.95000
SECONDARY_SE_QUAD_XY: 309543.66000 5340096.85000
SECONDARY_SW_QUAD_XY: 304898.74000 5340253.68000
RMSE_XY: 4.10000
IMAGE_SOURCE: BLACK AND WHITE FILM
SOURCE_IMAGE_ID: NAPP 2610 24
SOURCE_IMAGE_DATE: 1990 8 7
SOURCE_IMAGE_ID: NAPP 2610 2610
SOURCE_IMAGE_DATE: 1990 8 7
SOURCE_IMAGE_ID: NAPP 2610 25
SOURCE_IMAGE_DATE: 1990 8 7
SOURCE_DEM_DATE: 1995 4 28
AGENCY: WESTERN MAPPING CENTER (WMC)
PRODUCER: Science Applications International
PRODUCTION_SYSTEM: GIS/MAGIC
COMPRESSION: UNDEFINED
STANDARD_VERSION: 1996 12
METADATA_DATE: 1997 7 4
DATA_FILE_SIZE: 42777241
BYTE_COUNT: 5549
