FILENAME: O4811355.NWS.46895.tif
QUADRANGLE_NAME: CRESCENT CLIFF
QUADRANT: NW
WEST_LONGITUDE: -113 15 0.00000
EAST_LONGITUDE: -113 11 15.00000
NORTH_LATITUDE: 48 15 0.00000
SOUTH_LATITUDE: 48 11 15.00000
PRODUCTION_DATE: 1994 11 14
RASTER_ORDER: LEFT_RIGHT/TOP_BOTTOM
BAND_ORGANIZATION: SINGLE FILE
BAND_CONTENT: BLACK&WHITE
BAND_CONTENT: UNDEFINED
BAND_CONTENT: UNDEFINED
BITS_PER_PIXEL: 8
SAMPLES_AND_LINES: 5514 7686
HORIZONTAL_DATUM: NAD83
HORIZONTAL_COORDINATE_SYSTEM: UTM
COORDINATE_ZONE: 12
HORIZONTAL_UNITS: METERS
HORIZONTAL_RESOLUTION: 1.00000
SECONDARY_HORIZONTAL_DATUM: NAD27
XY_ORIGIN: 332404.00000 5346835.00000
SECONDARY_XY_ORIGIN: 332467.28800 5346618.33400
NATION: US
STATE: MT
NW_QUAD_CORNER_XY: 332977.43800 5346534.57000
NE_QUAD_CORNER_XY: 337616.69600 5346400.47100
SE_QUAD_CORNERY_XY: 337418.83900 5339454.15300
SW_QUAD_CORNER_XY: 332773.92200 5339588.28400
SECONDARY_NW_QUAD_XY: 332972.15400 5346315.71400
SECONDARY_NE_QUAD_XY: 337611.55900 5346181.61100
SECONDARY_SE_QUAD_XY: 337413.70200 5339235.30500
SECONDARY_SW_QUAD_XY: 332768.63900 5339369.44000
RMSE_XY: 3.70000
IMAGE_SOURCE: BLACK AND WHITE FILM
SOURCE_IMAGE_ID: NAPP 2615 040
SOURCE_IMAGE_DATE: 1990 9 3
SOURCE_DEM_DATE: 1994 11 14
AGENCY: WESTERN MAPPING CENTER (WMC)
PRODUCER: Science Applications International
PRODUCTION_SYSTEM: IIS/PRISM
COMPRESSION: UNDEFINED
STANDARD_VERSION: 1996 12
METADATA_DATE: 1997 7 3
DATA_FILE_SIZE: 42386118
BYTE_COUNT: 5514
