FILENAME: O4811362.NES.47096.tif
QUADRANGLE_NAME: CAPITOL MOUNTAIN
QUADRANT: NE
WEST_LONGITUDE: -113 18 45.00000
EAST_LONGITUDE: -113 15 0.00000
NORTH_LATITUDE: 48 7 30.00000
SOUTH_LATITUDE: 48 3 45.00000
PRODUCTION_DATE: 1994 11 14
RASTER_ORDER: LEFT_RIGHT/TOP_BOTTOM
BAND_ORGANIZATION: SINGLE FILE
BAND_CONTENT: BLACK&WHITE
BAND_CONTENT: UNDEFINED
BAND_CONTENT: UNDEFINED
BITS_PER_PIXEL: 8
SAMPLES_AND_LINES: 5531 7691
HORIZONTAL_DATUM: NAD83
HORIZONTAL_COORDINATE_SYSTEM: UTM
COORDINATE_ZONE: 12
HORIZONTAL_UNITS: METERS
HORIZONTAL_RESOLUTION: 1.00000
SECONDARY_HORIZONTAL_DATUM: NAD27
XY_ORIGIN: 327341.00000 5333081.00000
SECONDARY_XY_ORIGIN: 327404.11300 5332865.08400
NATION: US
STATE: MT
NW_QUAD_CORNER_XY: 327920.06000 5332780.00900
NE_QUAD_CORNER_XY: 332570.60700 5332642.06300
SE_QUAD_CORNERY_XY: 332367.49200 5325695.90600
SW_QUAD_CORNER_XY: 327711.29800 5325833.88500
SECONDARY_NW_QUAD_XY: 327914.63000 5332561.18200
SECONDARY_NE_QUAD_XY: 332565.32400 5332423.23200
SECONDARY_SE_QUAD_XY: 332362.21000 5325477.08800
SECONDARY_SW_QUAD_XY: 327705.86900 5325615.07100
RMSE_XY: 1.40000
IMAGE_SOURCE: BLACK AND WHITE FILM
SOURCE_IMAGE_ID: NAPP 2635 040
SOURCE_IMAGE_DATE: 1991 8 4
SOURCE_DEM_DATE: 1994 11 14
AGENCY: WESTERN MAPPING CENTER (WMC)
PRODUCER: Science Applications International
PRODUCTION_SYSTEM: IIS/PRISM
COMPRESSION: UNDEFINED
STANDARD_VERSION: 1996 12
METADATA_DATE: 1997 7 3
DATA_FILE_SIZE: 42544452
BYTE_COUNT: 5531
