FILENAME: O4811364.SES.46728.tif
QUADRANGLE_NAME: GOOSEBERRY PEAK
QUADRANT: SE
WEST_LONGITUDE: -113 3 45.00000
EAST_LONGITUDE: -113 0 0.00000
NORTH_LATITUDE: 48 3 45.00000
SOUTH_LATITUDE: 48 0 0.00000
PRODUCTION_DATE: 1994 11 14
RASTER_ORDER: LEFT_RIGHT/TOP_BOTTOM
BAND_ORGANIZATION: SINGLE FILE
BAND_CONTENT: BLACK&WHITE
BAND_CONTENT: UNDEFINED
BAND_CONTENT: UNDEFINED
BITS_PER_PIXEL: 8
SAMPLES_AND_LINES: 5512 7676
HORIZONTAL_DATUM: NAD83
HORIZONTAL_COORDINATE_SYSTEM: UTM
COORDINATE_ZONE: 12
HORIZONTAL_UNITS: METERS
HORIZONTAL_RESOLUTION: 1.00000
SECONDARY_HORIZONTAL_DATUM: NAD27
XY_ORIGIN: 345782.00000 5325605.00000
SECONDARY_XY_ORIGIN: 345844.47100 5325389.62900
NATION: US
STATE: MT
NW_QUAD_CORNER_XY: 346336.20100 5325304.67000
NE_QUAD_CORNER_XY: 350992.47600 5325181.82400
SE_QUAD_CORNERY_XY: 350812.12500 5318235.61300
SW_QUAD_CORNER_XY: 346150.20900 5318358.48800
SECONDARY_NW_QUAD_XY: 346331.35800 5325085.84000
SECONDARY_NE_QUAD_XY: 350987.78100 5324962.99000
SECONDARY_SE_QUAD_XY: 350807.43000 5318016.79400
SECONDARY_SW_QUAD_XY: 346145.36700 5318139.67200
RMSE_XY: 3.50000
IMAGE_SOURCE: BLACK AND WHITE FILM
SOURCE_IMAGE_ID: NAPP 2609 008
SOURCE_IMAGE_DATE: 1990 8 7
SOURCE_DEM_DATE: 1994 11 14
AGENCY: WESTERN MAPPING CENTER (WMC)
PRODUCER: Science Applications International
PRODUCTION_SYSTEM: IIS/PRISM
COMPRESSION: UNDEFINED
STANDARD_VERSION: 1996 12
METADATA_DATE: 1997 7 3
DATA_FILE_SIZE: 42315624
BYTE_COUNT: 5512
