FILENAME: O4811364.NES.46726.tif
QUADRANGLE_NAME: GOOSEBERRY PEAK
QUADRANT: NE
WEST_LONGITUDE: -113 3 45.00000
EAST_LONGITUDE: -113 0 0.00000
NORTH_LATITUDE: 48 7 30.00000
SOUTH_LATITUDE: 48 3 45.00000
PRODUCTION_DATE: 1994 11 14
RASTER_ORDER: LEFT_RIGHT/TOP_BOTTOM
BAND_ORGANIZATION: SINGLE FILE
BAND_CONTENT: BLACK&WHITE
BAND_CONTENT: UNDEFINED
BAND_CONTENT: UNDEFINED
BITS_PER_PIXEL: 8
SAMPLES_AND_LINES: 5508 7675
HORIZONTAL_DATUM: NAD83
HORIZONTAL_COORDINATE_SYSTEM: UTM
COORDINATE_ZONE: 12
HORIZONTAL_UNITS: METERS
HORIZONTAL_RESOLUTION: 1.00000
SECONDARY_HORIZONTAL_DATUM: NAD27
XY_ORIGIN: 345967.00000 5332551.00000
SECONDARY_XY_ORIGIN: 346029.57500 5332335.24400
NATION: US
STATE: MT
NW_QUAD_CORNER_XY: 346522.37600 5332250.91900
NE_QUAD_CORNER_XY: 351173.00600 5332128.10200
SE_QUAD_CORNERY_XY: 350992.47600 5325181.82400
SW_QUAD_CORNER_XY: 346336.20100 5325304.67000
SECONDARY_NW_QUAD_XY: 346517.53300 5332032.07500
SECONDARY_NE_QUAD_XY: 351168.31000 5331909.25400
SECONDARY_SE_QUAD_XY: 350987.78100 5324962.99000
SECONDARY_SW_QUAD_XY: 346331.35800 5325085.84000
RMSE_XY: 2.50000
IMAGE_SOURCE: BLACK AND WHITE FILM
SOURCE_IMAGE_ID: NAPP 2609 006
SOURCE_IMAGE_DATE: 1990 8 7
SOURCE_DEM_DATE: 1994 11 14
AGENCY: WESTERN MAPPING CENTER (WMC)
PRODUCER: Science Applications International
PRODUCTION_SYSTEM: IIS/PRISM
COMPRESSION: UNDEFINED
STANDARD_VERSION: 1996 12
METADATA_DATE: 1997 7 3
DATA_FILE_SIZE: 42279408
BYTE_COUNT: 5508
