FILENAME: O4811201.NWS.46615.tif
QUADRANGLE_NAME: BUSHNELL HILL
QUADRANT: NW
WEST_LONGITUDE: -113 0 0.00000
EAST_LONGITUDE: -112 56 15.00000
NORTH_LATITUDE: 49 0 0.00000
SOUTH_LATITUDE: 48 56 15.00000
PRODUCTION_DATE: 1994 12 22
RASTER_ORDER: LEFT_RIGHT/TOP_BOTTOM
BAND_ORGANIZATION: SINGLE FILE
BAND_CONTENT: BLACK&WHITE
BAND_CONTENT: UNDEFINED
BAND_CONTENT: UNDEFINED
BITS_PER_PIXEL: 8
SAMPLES_AND_LINES: 5425 7669
HORIZONTAL_DATUM: NAD83
HORIZONTAL_COORDINATE_SYSTEM: UTM
COORDINATE_ZONE: 12
HORIZONTAL_UNITS: METERS
HORIZONTAL_RESOLUTION: 1.00000
SECONDARY_HORIZONTAL_DATUM: NAD27
XY_ORIGIN: 353167.00000 5429684.00000
SECONDARY_XY_ORIGIN: 353229.89000 5429464.73700
NATION: US
NATION: CA
STATE: MT
NW_QUAD_CORNER_XY: 353719.05400 5429382.98400
NE_QUAD_CORNER_XY: 358290.08900 5429264.39700
SE_QUAD_CORNERY_XY: 358112.80400 5422317.15200
SW_QUAD_CORNER_XY: 353536.04600 5422435.77400
SECONDARY_NW_QUAD_XY: 353714.35500 5429164.03500
SECONDARY_NE_QUAD_XY: 358285.53700 5429045.44500
SECONDARY_SE_QUAD_XY: 358108.25200 5422098.20100
SECONDARY_SW_QUAD_XY: 353531.34800 5422216.82700
RMSE_XY: 1.40000
IMAGE_SOURCE: BLACK AND WHITE FILM
SOURCE_IMAGE_ID: NAPP 2569 132
SOURCE_IMAGE_DATE: 1990 7 12
SOURCE_DEM_DATE: 1994 12 22
AGENCY: WESTERN MAPPING CENTER (WMC)
PRODUCER: Science Applications International
PRODUCTION_SYSTEM: GIS/MAGIC
COMPRESSION: UNDEFINED
STANDARD_VERSION: 1996 12
METADATA_DATE: 1997 7 4
DATA_FILE_SIZE: 41609750
BYTE_COUNT: 5425
