FILENAME: O4811201.NES.46614.tif
QUADRANGLE_NAME: BUSHNELL HILL
QUADRANT: NE
WEST_LONGITUDE: -112 56 15.00000
EAST_LONGITUDE: -112 52 30.00000
NORTH_LATITUDE: 49 0 0.00000
SOUTH_LATITUDE: 48 56 15.00000
PRODUCTION_DATE: 1994 12 22
RASTER_ORDER: LEFT_RIGHT/TOP_BOTTOM
BAND_ORGANIZATION: SINGLE FILE
BAND_CONTENT: BLACK&WHITE
BAND_CONTENT: UNDEFINED
BAND_CONTENT: UNDEFINED
BITS_PER_PIXEL: 8
SAMPLES_AND_LINES: 5419 7665
HORIZONTAL_DATUM: NAD83
HORIZONTAL_COORDINATE_SYSTEM: UTM
COORDINATE_ZONE: 12
HORIZONTAL_UNITS: METERS
HORIZONTAL_RESOLUTION: 1.00000
SECONDARY_HORIZONTAL_DATUM: NAD27
XY_ORIGIN: 357744.00000 5429565.00000
SECONDARY_XY_ORIGIN: 357806.82400 5429345.69300
NATION: US
NATION: CA
STATE: MT
NW_QUAD_CORNER_XY: 358290.08900 5429264.39700
NE_QUAD_CORNER_XY: 362861.14700 5429149.57800
SE_QUAD_CORNERY_XY: 362689.58400 5422202.29800
SW_QUAD_CORNER_XY: 358112.80400 5422317.15200
SECONDARY_NW_QUAD_XY: 358285.53700 5429045.44500
SECONDARY_NE_QUAD_XY: 362856.74200 5428930.62200
SECONDARY_SE_QUAD_XY: 362685.17900 5421983.34400
SECONDARY_SW_QUAD_XY: 358108.25200 5422098.20100
RMSE_XY: 0.80000
IMAGE_SOURCE: BLACK AND WHITE FILM
SOURCE_IMAGE_ID: NAPP 2569 085
SOURCE_IMAGE_DATE: 1990 7 12
SOURCE_DEM_DATE: 1994 12 22
AGENCY: WESTERN MAPPING CENTER (WMC)
PRODUCER: Science Applications International
PRODUCTION_SYSTEM: GIS/MAGIC
COMPRESSION: UNDEFINED
STANDARD_VERSION: 1996 12
METADATA_DATE: 1997 7 4
DATA_FILE_SIZE: 41542054
BYTE_COUNT: 5419
