FILENAME: O4811202.NWS.945055.tif
QUADRANGLE_NAME: DEL BONITA
QUADRANT: NW
WEST_LONGITUDE: -112 52 30.00000
EAST_LONGITUDE: -112 48 45.00000
NORTH_LATITUDE: 49 0 0.00000
SOUTH_LATITUDE: 48 56 15.00000
PRODUCTION_DATE: 1998 10 02
RASTER_ORDER: LEFT_RIGHT/TOP_BOTTOM
BAND_ORGANIZATION: SINGLE FILE
BAND_CONTENT: BLACK&WHITE
BAND_CONTENT: UNDEFINED
BAND_CONTENT: UNDEFINED
BITS_PER_PIXEL: 8
SAMPLES_AND_LINES: 5430 7680
HORIZONTAL_DATUM: NAD83
HORIZONTAL_COORDINATE_SYSTEM: UTM
COORDINATE_ZONE: 12
HORIZONTAL_UNITS: METERS
HORIZONTAL_RESOLUTION: 1.00000
SECONDARY_HORIZONTAL_DATUM: NAD27
XY_ORIGIN: 362310.00000 5429460.00000
SECONDARY_XY_ORIGIN: 362372.75900 5429240.65000
NATION: US
NATION: CA
STATE: MT
NW_QUAD_CORNER_XY: 362861.14700 5429149.57900
NE_QUAD_CORNER_XY: 367432.22700 5429038.52600
SE_QUAD_CORNERY_XY: 367266.38600 5422091.21200
SW_QUAD_CORNER_XY: 362689.58400 5422202.29800
SECONDARY_NW_QUAD_XY: 362856.74200 5428930.62300
SECONDARY_NE_QUAD_XY: 367427.96900 5428819.56700
SECONDARY_SE_QUAD_XY: 367262.12900 5421872.25400
SECONDARY_SW_QUAD_XY: 362685.17900 5421983.34400
RMSE_XY: 1.23600
IMAGE_SOURCE: BLACK AND WHITE FILM
SOURCE_IMAGE_ID: NAPP 8385 94
SOURCE_IMAGE_DATE: 1995 08 05
SOURCE_DEM_DATE: 1966 01 01
AGENCY: WESTERN MAPPING CENTER (WMC)
PRODUCER: ANALYTICAL SURVEYS INC.
PRODUCTION_SYSTEM: ORBIT OR_RECTIFY V.5.2
COMPRESSION: UNDEFINED
STANDARD_VERSION: 1996 12
METADATA_DATE: 1998 12 10
DATA_FILE_SIZE: 41707830
BYTE_COUNT: 5430
