FILENAME: O4811203.SWS.938406.tif
QUADRANGLE_NAME: LANDSLIDE BUTTE
QUADRANT: SW
WEST_LONGITUDE: -112 45 0.00000
EAST_LONGITUDE: -112 41 15.00000
NORTH_LATITUDE: 48 56 15.00000
SOUTH_LATITUDE: 48 52 30.00000
PRODUCTION_DATE: 1998 11 18
RASTER_ORDER: LEFT_RIGHT/TOP_BOTTOM
BAND_ORGANIZATION: SINGLE FILE
BAND_CONTENT: BLACK&WHITE
BAND_CONTENT: UNDEFINED
BAND_CONTENT: UNDEFINED
BITS_PER_PIXEL: 8
SAMPLES_AND_LINES: 5430 7680
HORIZONTAL_DATUM: NAD83
HORIZONTAL_COORDINATE_SYSTEM: UTM
COORDINATE_ZONE: 12
HORIZONTAL_UNITS: METERS
HORIZONTAL_RESOLUTION: 1.00000
SECONDARY_HORIZONTAL_DATUM: NAD27
XY_ORIGIN: 371310.00000 5422290.00000
SECONDARY_XY_ORIGIN: 371372.69900 5422070.80600
NATION: US
STATE: MT
NW_QUAD_CORNER_XY: 371843.21000 5421983.89400
NE_QUAD_CORNER_XY: 376420.05500 5421880.34200
SE_QUAD_CORNERY_XY: 376265.80500 5414933.03400
SW_QUAD_CORNER_XY: 371683.24500 5415036.61600
SECONDARY_NW_QUAD_XY: 371839.09900 5421764.93200
SECONDARY_NE_QUAD_XY: 376416.09100 5421661.37800
SECONDARY_SE_QUAD_XY: 376261.84100 5414714.07200
SECONDARY_SW_QUAD_XY: 371679.13400 5414817.65700
RMSE_XY: 1.05600
IMAGE_SOURCE: BLACK AND WHITE FILM
SOURCE_IMAGE_ID: NAPP 8385 89
SOURCE_IMAGE_DATE: 1995 08 05
SOURCE_DEM_DATE: 1966 00 00
AGENCY: WESTERN MAPPING CENTER (WMC)
PRODUCER: ANALYTICAL SURVEYS INC.
PRODUCTION_SYSTEM: ORBIT OR_RECTIFY V.5.2
COMPRESSION: UNDEFINED
STANDARD_VERSION: 1996 12
METADATA_DATE: 1998 12 09
DATA_FILE_SIZE: 41707830
BYTE_COUNT: 5430
