FILENAME: O4811205.SWS.938430.tif
QUADRANGLE_NAME: HEADLIGHT BUTTE NW
QUADRANT: SW
WEST_LONGITUDE: -112 30 0.00000
EAST_LONGITUDE: -112 26 15.00000
NORTH_LATITUDE: 48 56 15.00000
SOUTH_LATITUDE: 48 52 30.00000
PRODUCTION_DATE: 1998 12 07
RASTER_ORDER: LEFT_RIGHT/TOP_BOTTOM
BAND_ORGANIZATION: SINGLE FILE
BAND_CONTENT: BLACK&WHITE
BAND_CONTENT: UNDEFINED
BAND_CONTENT: UNDEFINED
BITS_PER_PIXEL: 8
SAMPLES_AND_LINES: 5400 7650
HORIZONTAL_DATUM: NAD83
HORIZONTAL_COORDINATE_SYSTEM: UTM
COORDINATE_ZONE: 12
HORIZONTAL_UNITS: METERS
HORIZONTAL_RESOLUTION: 1.00000
SECONDARY_HORIZONTAL_DATUM: NAD27
XY_ORIGIN: 389640.00000 5421900.00000
SECONDARY_XY_ORIGIN: 389702.37900 5421680.81600
NATION: US
STATE: MT
NW_QUAD_CORNER_XY: 390150.70700 5421592.29200
NE_QUAD_CORNER_XY: 394727.62700 5421503.80800
SE_QUAD_CORNERY_XY: 394596.23800 5414556.38800
SW_QUAD_CORNER_XY: 390013.60300 5414644.89800
SECONDARY_NW_QUAD_XY: 390147.18300 5421373.31800
SECONDARY_NE_QUAD_XY: 394724.25000 5421284.83200
SECONDARY_SE_QUAD_XY: 394592.86100 5414337.41400
SECONDARY_SW_QUAD_XY: 390010.07900 5414425.92700
RMSE_XY: 0.95000
IMAGE_SOURCE: BLACK AND WHITE FILM
SOURCE_IMAGE_ID: NAPP 8384 218
SOURCE_IMAGE_DATE: 1995 08 05
SOURCE_DEM_DATE: 1966 00 00
AGENCY: WESTERN MAPPING CENTER (WMC)
PRODUCER: ANALYTICAL SURVEYS INC.
PRODUCTION_SYSTEM: ORBIT OR_RECTIFY V.5.2
COMPRESSION: UNDEFINED
STANDARD_VERSION: 1996 12
METADATA_DATE: 1998 12 09
DATA_FILE_SIZE: 41315400
BYTE_COUNT: 5400
