FILENAME: O4811205.NES.938427.tif
QUADRANGLE_NAME: HEADLIGHT BUTTE NW
QUADRANT: NE
WEST_LONGITUDE: -112 26 15.00000
EAST_LONGITUDE: -112 22 30.00000
NORTH_LATITUDE: 49 0 0.00000
SOUTH_LATITUDE: 48 56 15.00000
PRODUCTION_DATE: 1998 12 07
RASTER_ORDER: LEFT_RIGHT/TOP_BOTTOM
BAND_ORGANIZATION: SINGLE FILE
BAND_CONTENT: BLACK&WHITE
BAND_CONTENT: UNDEFINED
BAND_CONTENT: UNDEFINED
BITS_PER_PIXEL: 8
SAMPLES_AND_LINES: 5400 7680
HORIZONTAL_DATUM: NAD83
HORIZONTAL_COORDINATE_SYSTEM: UTM
COORDINATE_ZONE: 12
HORIZONTAL_UNITS: METERS
HORIZONTAL_RESOLUTION: 1.00000
SECONDARY_HORIZONTAL_DATUM: NAD27
XY_ORIGIN: 394350.00000 5428770.00000
SECONDARY_XY_ORIGIN: 394412.31500 5428550.56100
NATION: US
NATION: CA
STATE: MT
NW_QUAD_CORNER_XY: 394859.14300 5428451.29900
NE_QUAD_CORNER_XY: 399430.36100 5428366.60800
SE_QUAD_CORNERY_XY: 399304.56500 5421419.09100
SW_QUAD_CORNER_XY: 394727.62700 5421503.80800
SECONDARY_NW_QUAD_XY: 394855.76600 5428232.32100
SECONDARY_NE_QUAD_XY: 399427.13100 5428147.62700
SECONDARY_SE_QUAD_XY: 399301.33500 5421200.11200
SECONDARY_SW_QUAD_XY: 394724.25000 5421284.83200
RMSE_XY: 1.46000
IMAGE_SOURCE: BLACK AND WHITE FILM
SOURCE_IMAGE_ID: NAPP 8384 204
SOURCE_IMAGE_DATE: 1995 08 05
SOURCE_DEM_DATE: 1966 00 00
AGENCY: WESTERN MAPPING CENTER (WMC)
PRODUCER: ANALYTICAL SURVEYS INC.
PRODUCTION_SYSTEM: ORBIT OR_RECTIFY V.5.2
COMPRESSION: UNDEFINED
STANDARD_VERSION: 1996 12
METADATA_DATE: 1998 12 09
DATA_FILE_SIZE: 41477400
BYTE_COUNT: 5400
