FILENAME: O4811206.SES.938453.tif
QUADRANGLE_NAME: HEADLIGHT BUTTE NE
QUADRANT: SE
WEST_LONGITUDE: -112 18 45.00000
EAST_LONGITUDE: -112 15 0.00000
NORTH_LATITUDE: 48 56 15.00000
SOUTH_LATITUDE: 48 52 30.00000
PRODUCTION_DATE: 1998 12 07
RASTER_ORDER: LEFT_RIGHT/TOP_BOTTOM
BAND_ORGANIZATION: SINGLE FILE
BAND_CONTENT: BLACK&WHITE
BAND_CONTENT: UNDEFINED
BAND_CONTENT: UNDEFINED
BITS_PER_PIXEL: 8
SAMPLES_AND_LINES: 5400 7650
HORIZONTAL_DATUM: NAD83
HORIZONTAL_COORDINATE_SYSTEM: UTM
COORDINATE_ZONE: 12
HORIZONTAL_UNITS: METERS
HORIZONTAL_RESOLUTION: 1.00000
SECONDARY_HORIZONTAL_DATUM: NAD27
XY_ORIGIN: 403380.00000 5421660.00000
SECONDARY_XY_ORIGIN: 403442.21600 5421440.70800
NATION: US
STATE: MT
NW_QUAD_CORNER_XY: 403881.51900 5421338.14100
NE_QUAD_CORNER_XY: 408458.48800 5421260.95600
SE_QUAD_CORNERY_XY: 408344.24100 5414313.46400
SW_QUAD_CORNER_XY: 403761.55800 5414390.67200
SECONDARY_NW_QUAD_XY: 403878.43500 5421119.15900
SECONDARY_NE_QUAD_XY: 408455.55200 5421041.97200
SECONDARY_SE_QUAD_XY: 408341.30400 5414094.48300
SECONDARY_SW_QUAD_XY: 403758.47400 5414171.69200
RMSE_XY: 3.21000
IMAGE_SOURCE: BLACK AND WHITE FILM
SOURCE_IMAGE_ID: NAPP 8381 55
SOURCE_IMAGE_DATE: 1995 07 28
SOURCE_DEM_DATE: 1966 00 00
AGENCY: WESTERN MAPPING CENTER (WMC)
PRODUCER: ANALYTICAL SURVEYS INC.
PRODUCTION_SYSTEM: ORBIT OR_RECTIFY V.5.2
COMPRESSION: UNDEFINED
STANDARD_VERSION: 1996 12
METADATA_DATE: 1998 12 08
DATA_FILE_SIZE: 41315400
BYTE_COUNT: 5400
