FILENAME: O4811206.NES.938451.tif
QUADRANGLE_NAME: HEADLIGHT BUTTE NE
QUADRANT: NE
WEST_LONGITUDE: -112 18 45.00000
EAST_LONGITUDE: -112 15 0.00000
NORTH_LATITUDE: 49 0 0.00000
SOUTH_LATITUDE: 48 56 15.00000
PRODUCTION_DATE: 1998 12 07
RASTER_ORDER: LEFT_RIGHT/TOP_BOTTOM
BAND_ORGANIZATION: SINGLE FILE
BAND_CONTENT: BLACK&WHITE
BAND_CONTENT: UNDEFINED
BAND_CONTENT: UNDEFINED
BITS_PER_PIXEL: 8
SAMPLES_AND_LINES: 5400 7650
HORIZONTAL_DATUM: NAD83
HORIZONTAL_COORDINATE_SYSTEM: UTM
COORDINATE_ZONE: 12
HORIZONTAL_UNITS: METERS
HORIZONTAL_RESOLUTION: 1.00000
SECONDARY_HORIZONTAL_DATUM: NAD27
XY_ORIGIN: 403500.00000 5428590.00000
SECONDARY_XY_ORIGIN: 403562.23900 5428370.48000
NATION: US
NATION: CA
STATE: MT
NW_QUAD_CORNER_XY: 404001.59500 5428285.68200
NE_QUAD_CORNER_XY: 408572.84500 5428208.52100
SE_QUAD_CORNERY_XY: 408458.48800 5421260.95600
SW_QUAD_CORNER_XY: 403881.51900 5421338.14100
SECONDARY_NW_QUAD_XY: 403998.51200 5428066.69800
SECONDARY_NE_QUAD_XY: 408569.90900 5427989.53400
SECONDARY_SE_QUAD_XY: 408455.55200 5421041.97200
SECONDARY_SW_QUAD_XY: 403878.43500 5421119.15900
RMSE_XY: 2.93000
IMAGE_SOURCE: BLACK AND WHITE FILM
SOURCE_IMAGE_ID: NAPP 8381 57
SOURCE_IMAGE_DATE: 1995 07 28
SOURCE_DEM_DATE: 1966 00 00
AGENCY: WESTERN MAPPING CENTER (WMC)
PRODUCER: ANALYTICAL SURVEYS INC.
PRODUCTION_SYSTEM: ORBIT OR_RECTIFY V.5.2
COMPRESSION: UNDEFINED
STANDARD_VERSION: 1996 12
METADATA_DATE: 1998 12 09
DATA_FILE_SIZE: 41315400
BYTE_COUNT: 5400
