FILENAME: O4811207.NES.938463.tif
QUADRANGLE_NAME: FITZPATRICK LAKE
QUADRANT: NE
WEST_LONGITUDE: -112 11 15.00000
EAST_LONGITUDE: -112 7 30.00000
NORTH_LATITUDE: 49 0 0.00000
SOUTH_LATITUDE: 48 56 15.00000
PRODUCTION_DATE: 1998 12 08
RASTER_ORDER: LEFT_RIGHT/TOP_BOTTOM
BAND_ORGANIZATION: SINGLE FILE
BAND_CONTENT: BLACK&WHITE
BAND_CONTENT: UNDEFINED
BAND_CONTENT: UNDEFINED
BITS_PER_PIXEL: 8
SAMPLES_AND_LINES: 5370 7650
HORIZONTAL_DATUM: NAD83
HORIZONTAL_COORDINATE_SYSTEM: UTM
COORDINATE_ZONE: 12
HORIZONTAL_UNITS: METERS
HORIZONTAL_RESOLUTION: 1.00000
SECONDARY_HORIZONTAL_DATUM: NAD27
XY_ORIGIN: 412650.00000 5428440.00000
SECONDARY_XY_ORIGIN: 412712.12800 5428220.46000
NATION: US
NATION: CA
STATE: MT
NW_QUAD_CORNER_XY: 413144.11000 5428135.12400
NE_QUAD_CORNER_XY: 417715.38900 5428065.49300
SE_QUAD_CORNERY_XY: 417612.47000 5421117.88600
SW_QUAD_CORNER_XY: 413035.47200 5421187.53800
SECONDARY_NW_QUAD_XY: 413141.32000 5427916.13600
SECONDARY_NE_QUAD_XY: 417712.74700 5427846.50200
SECONDARY_SE_QUAD_XY: 417609.82800 5420898.89700
SECONDARY_SW_QUAD_XY: 413032.68300 5420968.55100
RMSE_XY: 1.66000
IMAGE_SOURCE: BLACK AND WHITE FILM
SOURCE_IMAGE_ID: NAPP 9493 7
SOURCE_IMAGE_DATE: 1995 09 14
SOURCE_DEM_DATE: 1968 00 00
AGENCY: WESTERN MAPPING CENTER (WMC)
PRODUCER: ANALYTICAL SURVEYS INC.
PRODUCTION_SYSTEM: ORBIT OR_RECTIFY V.5.2
COMPRESSION: UNDEFINED
STANDARD_VERSION: 1996 12
METADATA_DATE: 1998 12 10
DATA_FILE_SIZE: 41085870
BYTE_COUNT: 5370
