FILENAME: O4811208.SES.938477.tif
QUADRANGLE_NAME: HILLSIDE COLONY
QUADRANT: SE
WEST_LONGITUDE: -112 3 45.00000
EAST_LONGITUDE: -112 0 0.00000
NORTH_LATITUDE: 48 56 15.00000
SOUTH_LATITUDE: 48 52 30.00000
PRODUCTION_DATE: 1998 12 05
RASTER_ORDER: LEFT_RIGHT/TOP_BOTTOM
BAND_ORGANIZATION: SINGLE FILE
BAND_CONTENT: BLACK&WHITE
BAND_CONTENT: UNDEFINED
BAND_CONTENT: UNDEFINED
BITS_PER_PIXEL: 8
SAMPLES_AND_LINES: 5370 7620
HORIZONTAL_DATUM: NAD83
HORIZONTAL_COORDINATE_SYSTEM: UTM
COORDINATE_ZONE: 12
HORIZONTAL_UNITS: METERS
HORIZONTAL_RESOLUTION: 1.00000
SECONDARY_HORIZONTAL_DATUM: NAD27
XY_ORIGIN: 421710.00000 5421360.00000
SECONDARY_XY_ORIGIN: 421771.98500 5421140.70200
NATION: US
STATE: MT
NW_QUAD_CORNER_XY: 422189.48200 5421051.99900
NE_QUAD_CORNER_XY: 426766.50600 5420989.87800
SE_QUAD_CORNERY_XY: 426675.11300 5414042.30500
SW_QUAD_CORNER_XY: 422092.37500 5414104.44500
SECONDARY_NW_QUAD_XY: 422186.98600 5420833.00800
SECONDARY_NE_QUAD_XY: 426764.15700 5420770.88500
SECONDARY_SE_QUAD_XY: 426672.76400 5413823.31500
SECONDARY_SW_QUAD_XY: 422089.87900 5413885.45600
RMSE_XY: 1.28000
IMAGE_SOURCE: BLACK AND WHITE FILM
SOURCE_IMAGE_ID: NAPP 9487 56
SOURCE_IMAGE_DATE: 1995 08 27
SOURCE_IMAGE_ID: NAPP 9487 58
SOURCE_IMAGE_DATE: 1995 08 27
SOURCE_DEM_DATE: 1968 00 00
AGENCY: WESTERN MAPPING CENTER (WMC)
PRODUCER: ANALYTICAL SURVEYS INC.
PRODUCTION_SYSTEM: ORBIT OR_RECTIFY V.5.2
COMPRESSION: UNDEFINED
STANDARD_VERSION: 1996 12
METADATA_DATE: 1998 12 10
DATA_FILE_SIZE: 40924770
BYTE_COUNT: 5370
